BEGIN:VCALENDAR
VERSION:2.0
PRODID:-//Arte Que Acontece - ECPv6.15.20//NONSGML v1.0//EN
CALSCALE:GREGORIAN
METHOD:PUBLISH
X-WR-CALNAME:Arte Que Acontece
X-ORIGINAL-URL:https://artequeacontece.com.br
X-WR-CALDESC:Eventos para Arte Que Acontece
REFRESH-INTERVAL;VALUE=DURATION:PT1H
X-Robots-Tag:noindex
X-PUBLISHED-TTL:PT1H
BEGIN:VTIMEZONE
TZID:America/Sao_Paulo
BEGIN:STANDARD
TZOFFSETFROM:-0300
TZOFFSETTO:-0300
TZNAME:-03
DTSTART:20230101T000000
END:STANDARD
END:VTIMEZONE
BEGIN:VEVENT
DTSTART;TZID=America/Sao_Paulo:20240222T103000
DTEND;TZID=America/Sao_Paulo:20240519T180000
DTSTAMP:20260422T074600
CREATED:20240216T162802Z
LAST-MODIFIED:20240216T162807Z
UID:46473-1708597800-1716141600@artequeacontece.com.br
SUMMARY:"The Time is Always Now: Artists Reframe the Black Figure” na National Portrait Gallery
DESCRIPTION:Kimathi Donkor\, Nanny of the Maroons’ Fifth Act of Mercy\, 2012 (detalhe) © Kimathi Donkor. Courtesia do artista e Niru Ratnam\, Londres. Foto: Tim Bowditch\n\n\n\nA exposição\, com curadoria do escritor Ekow Eshun\, destaca o trabalho de artistas contemporâneos da diáspora africana\, incluindo Michael Armitage\, Lubaina Himid\, Kerry James Marshall\, Toyin Ojih Odutola e Amy Sherald\, e enfatiza o uso de figuras para iluminar a riqueza e complexidade da vida negra. Além de analisar a presença da figura negra na história da arte ocidental\, examinamos sua ausência – e a história da representação contada por meio dessas obras\, assim como os contextos sociais\, psicológicos e culturais em que foram produzidas.
URL:https://artequeacontece.com.br/evento/the-time-is-always-now-artists-reframe-the-black-figure-na-national-portrait-gallery/
LOCATION:National Portrait Gallery\, St. Martin's Pl\, Londres\, Reino unido
CATEGORIES:Londres
ATTACH;FMTTYPE=image/jpeg:https://artequeacontece.com.br/wp-content/uploads/2024/02/Kimathi-Donkor-Nanny-of-the-Maroons-Fifth-Act-of-Mercy-2012.jpg
END:VEVENT
END:VCALENDAR