BEGIN:VCALENDAR
VERSION:2.0
PRODID:-//Arte Que Acontece - ECPv6.15.20//NONSGML v1.0//EN
CALSCALE:GREGORIAN
METHOD:PUBLISH
X-WR-CALNAME:Arte Que Acontece
X-ORIGINAL-URL:https://artequeacontece.com.br
X-WR-CALDESC:Eventos para Arte Que Acontece
REFRESH-INTERVAL;VALUE=DURATION:PT1H
X-Robots-Tag:noindex
X-PUBLISHED-TTL:PT1H
BEGIN:VTIMEZONE
TZID:America/Sao_Paulo
BEGIN:STANDARD
TZOFFSETFROM:-0300
TZOFFSETTO:-0300
TZNAME:-03
DTSTART:20230101T000000
END:STANDARD
END:VTIMEZONE
BEGIN:VEVENT
DTSTART;TZID=America/Sao_Paulo:20241029T110000
DTEND;TZID=America/Sao_Paulo:20241228T190000
DTSTAMP:20260419T085151
CREATED:20241029T194827Z
LAST-MODIFIED:20241029T194827Z
UID:58879-1730199600-1735412400@artequeacontece.com.br
SUMMARY:"The Man in the Moone" de Julien Bismuth na Marli Matsumoto Arte Contemporânea
DESCRIPTION:Julien Bismuth\, “Encontramos o que estávamos buscando”\, 2024\n\n\n\n\nMarli Matsumoto Arte Contemporânea apresenta a exposição The Man in the Moone\, do artista Julien Bismuth\, no dia 29 de outubro\, terça-feira.  \n“…a tradução não se encontra no centro da mata da outra língua\, mas fora dela\, em frente do cume arborizado; ela grita dentro dessa floresta sem entrar\, mirando o único ponto onde o eco pode dar\, na sua língua\, a reverberação da obra na língua estrangeira.” BENJAMIN\, W. \nThe Man in the Moone\, primeira exposição individual de Julien Bismuth no Brasil\, apresenta trabalhos em diversas mídias que refletem o interesse do artista pela linguagem\, com enfoque na temática da tradução. A exposição concentra um conjunto de desenhos\, serigrafias e trabalhos murais inspirados em imagens e metáforas da linguagem partindo de diversos autores.  \nUma série de serigrafias\, impressas sobre tecido de tela de serigrafia\, mostra variações de um desenho feito pelo polímata alemão do século XIX\, Alexander von Humboldt\, onde cada obra se diferencia por sutis variações na reprodução da imagem original. Os títulos são citações do texto de Dante Alighieri sobre a sua busca da identidade da língua italiana na floresta dos seus vários dialetos.  \nA obra mural\, realizada com pigmento em pó\, reinterpreta a ilustração do livro The Man in the Moone\, do séc. XVII\, um dos primeiros livros de ficção científica baseado em descrições de línguas ameríndias pelos primeiros viajantes europeus. A constelação de referências\, materiais e técnicas escolhidos\, indicam a dimensão alegórica de sua pesquisa\, em que qualquer aspecto\, até os mais banais\, podem transmitir diferentes significados. \nA linguagem sempre foi um tema central na prática do artista\, o que o levou a trabalhar com linguistas e antropólogos no Brasil em uma série de projetos relacionados especificamente às línguas indígenas e seu estudo\, documentação\, preservação e revitalização.  \nA entrevista com a linguista e antropóloga Bruna Franchetto se desdobra na reflexão sobre a tradução\, a linguística e as ameaças aos povos indígenas no Brasil. Por meio de sua perspectiva política\, crítica e humana\, propõe um diálogo entre realidades separadas por distâncias que apenas a incerta arte da tradução pode navegar.
URL:https://artequeacontece.com.br/evento/the-man-in-the-moone-de-julien-bismuth-na-marli-matsumoto-arte-contemporanea/
LOCATION:Marli Matsumoto Arte Contemporânea\, Rua João Alberto Moreira 128\, São Paulo\, SP\, Brasil
CATEGORIES:São Paulo
ATTACH;FMTTYPE=image/jpeg:https://artequeacontece.com.br/wp-content/uploads/2024/10/JB1009-1.jpg
END:VEVENT
END:VCALENDAR