BEGIN:VCALENDAR
VERSION:2.0
PRODID:-//Arte Que Acontece - ECPv6.15.20//NONSGML v1.0//EN
CALSCALE:GREGORIAN
METHOD:PUBLISH
X-WR-CALNAME:Arte Que Acontece
X-ORIGINAL-URL:https://artequeacontece.com.br
X-WR-CALDESC:Eventos para Arte Que Acontece
REFRESH-INTERVAL;VALUE=DURATION:PT1H
X-Robots-Tag:noindex
X-PUBLISHED-TTL:PT1H
BEGIN:VTIMEZONE
TZID:America/Sao_Paulo
BEGIN:STANDARD
TZOFFSETFROM:-0300
TZOFFSETTO:-0300
TZNAME:-03
DTSTART:20230101T000000
END:STANDARD
END:VTIMEZONE
BEGIN:VEVENT
DTSTART;TZID=America/Sao_Paulo:20240111T120000
DTEND;TZID=America/Sao_Paulo:20240224T180000
DTSTAMP:20260425T072516
CREATED:20240206T135857Z
LAST-MODIFIED:20240206T135902Z
UID:46191-1704974400-1708797600@artequeacontece.com.br
SUMMARY:"The Living" de Gritli Faulhaber na Theta Gallery
DESCRIPTION:A exposição The Living pode ser vista como um vasto recipiente que\, como uma ideia ou palavra\, abriga a experiência de estar vivo e o curso dos eventos e atividades humanas. A prática de Gritli Faulhaber abarca quase tanto\, misturando ideias de autodefinição\, humanismo\, trabalho\, romantismo e anacronismo de uma maneira totalmente contemporânea de abordar a pintura\, posicionando o presente como um vácuo para fios perdidos ao longo da história. Ela colhe material da fonte de um amplo arquivo de referências que vão desde objetos pessoais — uma camiseta Billabong longa de sua adolescência — até obras da ilustradora Art Nouveau erótica Gerda Wegener e da impressionista francesa Berthe Morisot. As técnicas variam de impasto pesado a pinceladas delicadas\, e de telas expostas a pigmento preto completamente saturado.
URL:https://artequeacontece.com.br/evento/the-living-de-gritli-faulhaber-na-theta-gallery/
LOCATION:Theta Gallery\, 184 Franklin Street\, Nova York\, Nova York\, Estados Unidos
CATEGORIES:Nova York
ATTACH;FMTTYPE=image/jpeg:https://artequeacontece.com.br/wp-content/uploads/2024/02/Ohne-Titel-Gerda-Wegener-Ebay-Glove-Rests-B.M.-Wind-2023.-Theta_Faulhaber.jpg
END:VEVENT
END:VCALENDAR