BEGIN:VCALENDAR
VERSION:2.0
PRODID:-//Arte Que Acontece - ECPv6.15.20//NONSGML v1.0//EN
CALSCALE:GREGORIAN
METHOD:PUBLISH
X-WR-CALNAME:Arte Que Acontece
X-ORIGINAL-URL:https://artequeacontece.com.br
X-WR-CALDESC:Eventos para Arte Que Acontece
REFRESH-INTERVAL;VALUE=DURATION:PT1H
X-Robots-Tag:noindex
X-PUBLISHED-TTL:PT1H
BEGIN:VTIMEZONE
TZID:America/Sao_Paulo
BEGIN:STANDARD
TZOFFSETFROM:-0300
TZOFFSETTO:-0300
TZNAME:-03
DTSTART:20220101T000000
END:STANDARD
END:VTIMEZONE
BEGIN:VEVENT
DTSTART;TZID=America/Sao_Paulo:20231118T100000
DTEND;TZID=America/Sao_Paulo:20240225T170000
DTSTAMP:20260422T072447
CREATED:20240216T171709Z
LAST-MODIFIED:20240216T171858Z
UID:46488-1700301600-1708880400@artequeacontece.com.br
SUMMARY:"The Great Cosmic Mother" de Monica Sjöö na Modern Art Oxford
DESCRIPTION:Monica Sjöö\, Meeting the Ancestors at Avebury\, 1993. Cortesia de Monica Sjöö Estate e Alison Jacques\, Londres. Foto: Albin Dahlström/Moderna Museet\n\n\n\nArtista\, ativista\, escritora e ecofeminista Monica Sjöö (1938-2005) foi incansável em sua defesa pela justiça de gênero\, ecofeminismo\, matriarcado e equidades sociais. Esta exposição retrospectiva traça o trabalho de sua vida e considera a relação entre arte\, espiritualidade e política. \n\n\n\nTraçando o profundo compromisso da artista com a justiça de gênero e ambiental\, The Great Cosmic Mother destaca as pinturas em grande escala de Sjöö criadas em resposta às diversas campanhas feministas e ambientais em que ela esteve ativamente envolvida ao longo de sua vida. As obras premonitórias de Sjöö foram uma forma pioneira de ativismo ambiental e anteciparam debates politicamente urgentes em torno da emergência climática hoje. \n\n\n\nA exposição reúne obras de arte que abrangem os 40 anos de carreira de Sjöö ao lado de seus escritos\, fotografias\, publicações ativistas\, banners\, cartazes e documentos pessoais para destacar como Sjöö via o trabalho criativo como parte vital da vida e a criação artística como um meio de reconectar os valores alternativos de culturas passadas ao presente. Alternando entre obras de arte\, documentos de arquivo e artefatos pessoais\, a exposição busca inspirar os visitantes a refletirem sobre como podem encontrar expressão criativa em todos os aspectos de suas vidas.
URL:https://artequeacontece.com.br/evento/the-great-cosmic-mother-de-monica-sjoo-na-modern-art-oxford/
LOCATION:Modern Art Oxford\, 30 Pembroke Street\, Londres\, Reino unido
CATEGORIES:Londres
ATTACH;FMTTYPE=image/jpeg:https://artequeacontece.com.br/wp-content/uploads/2024/02/1.-Meeting-the-Ancestors.jpg
END:VEVENT
END:VCALENDAR