BEGIN:VCALENDAR
VERSION:2.0
PRODID:-//Arte Que Acontece - ECPv6.15.20//NONSGML v1.0//EN
CALSCALE:GREGORIAN
METHOD:PUBLISH
X-WR-CALNAME:Arte Que Acontece
X-ORIGINAL-URL:https://artequeacontece.com.br
X-WR-CALDESC:Eventos para Arte Que Acontece
REFRESH-INTERVAL;VALUE=DURATION:PT1H
X-Robots-Tag:noindex
X-PUBLISHED-TTL:PT1H
BEGIN:VTIMEZONE
TZID:America/Sao_Paulo
BEGIN:STANDARD
TZOFFSETFROM:-0300
TZOFFSETTO:-0300
TZNAME:-03
DTSTART:20240101T000000
END:STANDARD
END:VTIMEZONE
BEGIN:VEVENT
DTSTART;TZID=America/Sao_Paulo:20250218T110000
DTEND;TZID=America/Sao_Paulo:20250601T180000
DTSTAMP:20260422T073334
CREATED:20250220T195729Z
LAST-MODIFIED:20250220T195814Z
UID:61219-1739876400-1748800800@artequeacontece.com.br
SUMMARY:"The Bleed\, Part II" de George Rouy na Hauser & Wirth
DESCRIPTION:George Rouy\, “III”\, 2025 © George Rouy. Foto: Damian Griffiths\nNeste mês de fevereiro\, a Hauser & Wirth Downtown Los Angeles apresenta The Bleed\, Part II\, a primeira exposição individual do artista britânico George Rouy nos Estados Unidos com a galeria. Dando continuidade à sua recente apresentação em Londres\, este “segundo capítulo” traz novas obras que expandem sua investigação sobre massa humana\, multiplicidade e movimento. \nCaracterizadas por um dinamismo marcante\, as pinturas de Rouy capturam experiências essenciais da vida contemporânea—desejo e inquietação\, a vontade de conexão frustrada pela alienação—para explorar os extremos emocionais em uma era globalizada e impulsionada pela tecnologia.
URL:https://artequeacontece.com.br/evento/the-bleed-part-ii-de-george-rouy-na-hauser-wirth/
LOCATION:Hauser & Wirth Downtown Los Angeles\, 901 E 3rd St\, Los Angeles\, Califórnia\, Estados Unidos
CATEGORIES:Los Angeles
ATTACH;FMTTYPE=image/jpeg:https://artequeacontece.com.br/wp-content/uploads/2025/02/web-hires-jpg-72dpi-edit-01D57380-D553-4357-8F28FBB4702BB381-1.jpg
END:VEVENT
END:VCALENDAR