BEGIN:VCALENDAR
VERSION:2.0
PRODID:-//Arte Que Acontece - ECPv6.15.20//NONSGML v1.0//EN
CALSCALE:GREGORIAN
METHOD:PUBLISH
X-WR-CALNAME:Arte Que Acontece
X-ORIGINAL-URL:https://artequeacontece.com.br
X-WR-CALDESC:Eventos para Arte Que Acontece
REFRESH-INTERVAL;VALUE=DURATION:PT1H
X-Robots-Tag:noindex
X-PUBLISHED-TTL:PT1H
BEGIN:VTIMEZONE
TZID:America/Sao_Paulo
BEGIN:STANDARD
TZOFFSETFROM:-0300
TZOFFSETTO:-0300
TZNAME:-03
DTSTART:20210101T000000
END:STANDARD
END:VTIMEZONE
BEGIN:VEVENT
DTSTART;TZID=America/Sao_Paulo:20221019T100000
DTEND;TZID=America/Sao_Paulo:20230429T160000
DTSTAMP:20260419T091616
CREATED:20230213T212006Z
LAST-MODIFIED:20230216T141822Z
UID:38467-1666173600-1682784000@artequeacontece.com.br
SUMMARY:"The Bitter Years" na The Margulies Collection at the WAREhOUSE
DESCRIPTION:Trazendo imagens realizadas por Jack Delano\, Walker Evans\, Dorothea Lange\, Russell Lee\, Carl Mydans\, Arthur Rothstein\, Ben Shahn John Vachon e Marion Post Wolcott\, todos nomes históricos da fotografia norte-americana do início do século 20\, a exposição “The Bitter Years” apresenta quase cem fotografias da Farm Security Administration\, um projeto patrocinado pelo governo de Franklin Roosevelt dentro do plano de medidas New Deal contra a Grande Depressão. O resultado foi uma coleção de milhares de imagens que formam uma memória coletiva da vida durante o período após a quebra da Bolsa de Valores dos EUA em 1929 e a subsequente depressão econômica. Consideradas como alguns dos melhores exemplos da fotografia americana do século 20\, as imagens de estilo documental chamam a atenção para a enorme pobreza e a resistência do povo americano na década de 1930. A exposição apresenta em especial um recorte de fotografias da Margulies Collection realizadas por Dorothea Lange e sua imagem icônica “Mother Migrant” (foto acima)\, que se tornou um símbolo duradouro da Grande Depressão\, e toda a gama de trabalhos de Walker Evans\, incluindo seus estudos de arquitetura e Polaroids dos anos 1970. O título da exposição é uma referência à histórica exposição “The Bitter Years”\, curadoria de Edward Steichen no MoMA em 1962.
URL:https://artequeacontece.com.br/evento/the-bitter-years-na-the-margulies-collection-at-the-warehouse/
LOCATION:The Margulies Collection at the WAREhOUSE\, 591 NW 27th St Wynwood Art District\, Miami\, Flórida\, Estados Unidos
CATEGORIES:Miami
ATTACH;FMTTYPE=image/jpeg:https://artequeacontece.com.br/wp-content/uploads/2023/02/69086011-48421252.jpeg
END:VEVENT
END:VCALENDAR