BEGIN:VCALENDAR
VERSION:2.0
PRODID:-//Arte Que Acontece - ECPv6.15.20//NONSGML v1.0//EN
CALSCALE:GREGORIAN
METHOD:PUBLISH
X-WR-CALNAME:Arte Que Acontece
X-ORIGINAL-URL:https://artequeacontece.com.br
X-WR-CALDESC:Eventos para Arte Que Acontece
REFRESH-INTERVAL;VALUE=DURATION:PT1H
X-Robots-Tag:noindex
X-PUBLISHED-TTL:PT1H
BEGIN:VTIMEZONE
TZID:America/Sao_Paulo
BEGIN:STANDARD
TZOFFSETFROM:-0300
TZOFFSETTO:-0300
TZNAME:-03
DTSTART:20240101T000000
END:STANDARD
END:VTIMEZONE
BEGIN:VEVENT
DTSTART;TZID=America/Sao_Paulo:20251130T110000
DTEND;TZID=America/Sao_Paulo:20260117T180000
DTSTAMP:20260419T142259
CREATED:20251203T141119Z
LAST-MODIFIED:20251203T141119Z
UID:66500-1764500400-1768672800@artequeacontece.com.br
SUMMARY:"The Best Show During Art Basel" de Susan Kim Alvarez na KDR
DESCRIPTION:Susan Kim Alvarez\, “Mouth of Miami\,” 2025. Divulgação: KDR.\nAs pinturas de Alvarez exploram como cultura\, memória e humor se cruzam no cotidiano. Inspirando-se em influências cubanas\, vietnamitas e judaicas\, suas obras examinam a coexistência entre celebração e contradição\, mesclando o ornamental com o sagrado\, o absurdo com o íntimo. A Flórida surge como um cenário onde folclore\, rotina e mito se sobrepõem\, transformando bares\, festas e cenas de rua locais em espaços de narrativa coletiva. \nA exposição inclui composições densas em atividade\, ecoando as narrativas complexas das cenas de aldeia de Bruegel. A peça central\, “Boca de Miami”\, reflete sobre as ideias mutáveis ​​em torno do pecado\, do prazer e da expressão pessoal\, traçando como esses conceitos evoluem ao longo das gerações. Ao longo da mostra\, diversas obras reimaginam os parentes da artista em fases anteriores de suas vidas — momentos tanto lembrados quanto inventados — usando a pintura como forma de reinterpretar a história familiar. \n 
URL:https://artequeacontece.com.br/evento/the-best-show-during-art-basel-de-susan-kim-alvarez-na-kdr/
LOCATION:KDR Gallery\, 790 NW 22nd Street\, Miami\, 33127\, United States
CATEGORIES:Miami
ATTACH;FMTTYPE=image/png:https://artequeacontece.com.br/wp-content/uploads/2025/12/card_3._Susan_Kim_Alvarez_Mouth_of_Miami_2025.png
END:VEVENT
END:VCALENDAR