BEGIN:VCALENDAR
VERSION:2.0
PRODID:-//Arte Que Acontece - ECPv6.15.20//NONSGML v1.0//EN
CALSCALE:GREGORIAN
METHOD:PUBLISH
X-WR-CALNAME:Arte Que Acontece
X-ORIGINAL-URL:https://artequeacontece.com.br
X-WR-CALDESC:Eventos para Arte Que Acontece
REFRESH-INTERVAL;VALUE=DURATION:PT1H
X-Robots-Tag:noindex
X-PUBLISHED-TTL:PT1H
BEGIN:VTIMEZONE
TZID:America/Sao_Paulo
BEGIN:STANDARD
TZOFFSETFROM:-0300
TZOFFSETTO:-0300
TZNAME:-03
DTSTART:20240101T000000
END:STANDARD
END:VTIMEZONE
BEGIN:VEVENT
DTSTART;TZID=America/Sao_Paulo:20250827T100000
DTEND;TZID=America/Sao_Paulo:20250927T190000
DTSTAMP:20260419T103212
CREATED:20250829T191441Z
LAST-MODIFIED:20250829T191616Z
UID:64465-1756288800-1758999600@artequeacontece.com.br
SUMMARY:"Terras Crescidas" de Uýra na Aura
DESCRIPTION:Uýra\, “Fogo”\, da série Elementar\, 2018. Foto: Matheus Belém\nA Aura apresenta\, a partir do dia 27 de agosto\, a exposição “Terras Crescidas”\, a primeira individual de Uýra na galeria. A mostra reúne quatorze fotoperformances\, além do vídeo “Planta-Gente”\, um trecho do documentário “Uýra – A Retomada da Floresta”\, filmado na Amazônia e exibido internacionalmente\, com mais de 11 prêmios conquistados em festivais em Nova York\, Los Angeles\, Londres\, Melbourne\, entre outros. \nAcompanhada do texto curatorial de Denilson Baniwa\, a exposição parte do fenômeno natural das chamadas “terras caídas” e “terras crescidas” – processos geológicos de erosão e sedimentação nos rios amazônicos – para refletir sobre as memórias apagadas\, a resistência indígena e os impactos do avanço colonial sobre os corpos\, territórios e ecologias da floresta. \nUýra\, artista\, bióloga e educadora\, conhecida por seu trabalho que atravessa arte\, ciência e ancestralidade\, faz do próprio corpo suporte para construir diálogos entre gente\, bicho e planta\, além de responder ao histórico de apagamento identitário amazônico. \nNas palavras de Denilson Baniwa: “O constante contato com o ocidente fez com que parte da memória familiar e étnica fosse amputada dos mais jovens. Tudo acaba se tornando opaco e através da pesquisa artística de Uýra\, podemos vislumbrar um outro tempo\, de uma terra formada por sedimentos de memórias e de onde pode-se reclamar a retomada do que foi perdido ao longo dos tempos de escravidão\, exploração e apagamentos. É uma certa contrarresposta à tentativa de invisibilidade\, atropelamentos históricos e separação das famílias\, num território construído a partir da divisão\, da separação.” \n“Terras Crescidas” faz um paralelo complementar à exposição “Terras Caídas”\, também de Uýra\, no Parque Maria da Glória\, no Rio de Janeiro\, que estará em cartaz de 16 de agosto a 14 de setembro de 2025\, apresentando uma seleção de oito fotoperformances das séries “Elementar”\, “Mil Quase Mortos”\, “Rio Negro” e “Terra Pelada”\, entre outras.
URL:https://artequeacontece.com.br/evento/terras-crescidas-de-uyra-na-aura/
LOCATION:Aura Galeria\, Rua da Consolação\, 2767 - Jardins\, São Paulo\, SP\, Brasil
CATEGORIES:São Paulo
ATTACH;FMTTYPE=image/jpeg:https://artequeacontece.com.br/wp-content/uploads/2025/08/Uyra-Fogo-serie-Elementar-2018-–-foto_-Matheus-Belem-1-2.jpg
END:VEVENT
END:VCALENDAR