BEGIN:VCALENDAR
VERSION:2.0
PRODID:-//Arte Que Acontece - ECPv6.15.20//NONSGML v1.0//EN
CALSCALE:GREGORIAN
METHOD:PUBLISH
X-WR-CALNAME:Arte Que Acontece
X-ORIGINAL-URL:https://artequeacontece.com.br
X-WR-CALDESC:Eventos para Arte Que Acontece
REFRESH-INTERVAL;VALUE=DURATION:PT1H
X-Robots-Tag:noindex
X-PUBLISHED-TTL:PT1H
BEGIN:VTIMEZONE
TZID:America/Sao_Paulo
BEGIN:STANDARD
TZOFFSETFROM:-0300
TZOFFSETTO:-0300
TZNAME:-03
DTSTART:20230101T000000
END:STANDARD
END:VTIMEZONE
BEGIN:VEVENT
DTSTART;TZID=America/Sao_Paulo:20240306T110000
DTEND;TZID=America/Sao_Paulo:20240518T190000
DTSTAMP:20260422T073306
CREATED:20240410T225834Z
LAST-MODIFIED:20240410T225837Z
UID:48122-1709722800-1716058800@artequeacontece.com.br
SUMMARY:"Terhal Gheim" de Alia Ahmad na White Cube
DESCRIPTION:Alia Ahmad\, Noodh/ نوض | Reflection of light of things after rain 1\, 2023\n\n\n\nA White Cube tem apresenta a primeira exposição individual na Europa da artista saudita Alia Ahmad. ‘Terhal Gheim’ (‘A viagem das nuvens’) reúne um grupo de pinturas e aquarelas que utilizam o planalto desértico da capital da Arábia Saudita\, Riad\, para explorar o rico patrimônio cultural de contação de histórias e tecelagem particular das tribos nômades beduínas. \n\n\n\nExplorando o movimento como um quadro para entender o lugar e a pertença\, a artista narra a convergência de paisagem e memória\, negociando o papel vital da mudança\, adaptação e lembrança nos rituais migratórios dos beduínos e nas flutuações ambientais e industriais de sua cidade natal\, Riad. Derivando seu nome da palavra árabe ‘jardim’\, Ahmad encontra expressão visual e simbólica potente no vasto compêndio de vida vegetal encontrado na zona desértica árida de Riad – prosperando apesar do terreno inóspito. \n\n\n\nCaracterizadas por cores ousadas e fauvistas\, as pinturas de Ahmad fundem espaço agregado com abandono gestual inquieto\, dentro das quais tramas estruturais mais intencionais emergem. Marcas lineares sinuosas\, criadas através de impressões mais finas de pastel branco\, carvão e tinta\, traçam o padrão vegetal de folhagens e flora nativas da região\, segmentando naturalmente as composições em zonas gestuais e tonais\, onde interações de luz e sombra e cores impasto em camadas se combinam de forma lúdica. Através de sua pincelada controlada e direcional\, as pinturas de Ahmad assumem significados em camadas\, imergindo o espectador em enclaves profundos de folhagem exuberante\, que por sua vez ressoam com as práticas tradicionais da tribo beduína\, que migra para o deserto durante a estação chuvosa de inverno\, quando a terra está mais abundante.
URL:https://artequeacontece.com.br/evento/terhal-gheim-de-alia-ahmad-na-white-cube/
LOCATION:White Cube Paris\, 10 Avenue Matignon\, Paris\, França
CATEGORIES:Paris
ATTACH;FMTTYPE=image/jpeg:https://artequeacontece.com.br/wp-content/uploads/2024/04/Alia-Ahmad-Noodh-نوض-Reflection-of-light-of-things-after-rain-1-2023.jpg
END:VEVENT
END:VCALENDAR