BEGIN:VCALENDAR
VERSION:2.0
PRODID:-//Arte Que Acontece - ECPv6.15.20//NONSGML v1.0//EN
CALSCALE:GREGORIAN
METHOD:PUBLISH
X-WR-CALNAME:Arte Que Acontece
X-ORIGINAL-URL:https://artequeacontece.com.br
X-WR-CALDESC:Eventos para Arte Que Acontece
REFRESH-INTERVAL;VALUE=DURATION:PT1H
X-Robots-Tag:noindex
X-PUBLISHED-TTL:PT1H
BEGIN:VTIMEZONE
TZID:America/Sao_Paulo
BEGIN:STANDARD
TZOFFSETFROM:-0300
TZOFFSETTO:-0300
TZNAME:-03
DTSTART:20240101T000000
END:STANDARD
END:VTIMEZONE
BEGIN:VEVENT
DTSTART;TZID=America/Sao_Paulo:20250712T110000
DTEND;TZID=America/Sao_Paulo:20251012T180000
DTSTAMP:20260422T164053
CREATED:20250804T212540Z
LAST-MODIFIED:20250804T212540Z
UID:64046-1752318000-1760292000@artequeacontece.com.br
SUMMARY:"Telma Saraiva e a fascinação do mundo" no Museu de Arte do Rio
DESCRIPTION:Imagem: Reprodução / Divulgação\n\n\n\n\nO Museu de Arte do Rio inaugura a exposição “Telma Saraiva e a fascinação do mundo”\, dedicada à trajetória da artista cearense que marcou a história da fotopintura no Brasil. Atuando desde os anos 1940 no município de Crato\, no Cariri\, Telma Saraiva comandou o Foto Saraiva — único estúdio fotográfico gerido por uma mulher na região — e criou uma estética própria ao colorir retratos com tintas\, entre minúcia técnica e imaginação artística. A curadoria é assinada por Bitu Cassundé\, Amanda Bonan e Marcelo Campos.
URL:https://artequeacontece.com.br/evento/telma-saraiva-e-a-fascinacao-do-mundo-no-museu-de-arte-do-rio/
LOCATION:Museu de Arte do Rio\, Praça Mauá\, 5 - Centro\, Rio de Janeiro\, RJ\, Brasil
CATEGORIES:Rio de Janeiro
ATTACH;FMTTYPE=image/jpeg:https://artequeacontece.com.br/wp-content/uploads/2025/08/WhatsApp-Image-2025-07-08-at-13.14.01-1-1.jpeg
END:VEVENT
END:VCALENDAR