BEGIN:VCALENDAR
VERSION:2.0
PRODID:-//Arte Que Acontece - ECPv6.15.20//NONSGML v1.0//EN
CALSCALE:GREGORIAN
METHOD:PUBLISH
X-WR-CALNAME:Arte Que Acontece
X-ORIGINAL-URL:https://artequeacontece.com.br
X-WR-CALDESC:Eventos para Arte Que Acontece
REFRESH-INTERVAL;VALUE=DURATION:PT1H
X-Robots-Tag:noindex
X-PUBLISHED-TTL:PT1H
BEGIN:VTIMEZONE
TZID:America/Sao_Paulo
BEGIN:STANDARD
TZOFFSETFROM:-0300
TZOFFSETTO:-0300
TZNAME:-03
DTSTART:20240101T000000
END:STANDARD
END:VTIMEZONE
BEGIN:VEVENT
DTSTART;TZID=America/Sao_Paulo:20250613T110000
DTEND;TZID=America/Sao_Paulo:20250803T190000
DTSTAMP:20260419T162329
CREATED:20250612T032421Z
LAST-MODIFIED:20250612T032421Z
UID:63203-1749812400-1754247600@artequeacontece.com.br
SUMMARY:"Teatro Experimental do Negro nas fotografias de José Medeiros" no Instituto Tomie Ohtake
DESCRIPTION:José Medeiros\, Ensaio da peça Todos os filhos de Deus têm asas\, com Ruth de Souza e Ilena Teixeira\, 1946\n\n\n\n\nO Ministério da Cultura\, via Lei Federal de Incentivo à Cultura\, e o Instituto Tomie Ohtake\, com a correalização do Ipeafro – Instituto de Pesquisas e Estudos Afro-Brasileiros\, têm o prazer de anunciar a exposição Teatro Experimental do Negro nas fotografias de José Medeiros. Sob curadoria de Eugênio Lima\, a mostra ficará em cartaz de 13 de junho a 3 de agosto de 2025\, paralelamente às exposições Manfredo de Souzanetto – As montanhas\, Manuel Messias – Sem limites e Casa Sueli Carneiro em residência no Instituto Tomie Ohtake. \nReunindo cerca de 110 itens\, entre fotografias e documentos provenientes do acervo do Ipeafro\, a mostra ilumina a histórica colaboração entre o Teatro Experimental do Negro (TEN) e o fotógrafo José Medeiros (1921-1991) ao longo de quase duas décadas. Mais do que documentar\, a exposição busca evidenciar uma parceria artística que é\, ao mesmo tempo\, política e poética\, ressaltando o papel fundamental do TEN tanto na evolução do teatro moderno no Brasil quanto na afirmação da identidade negra nas artes e na esfera pública. A relação entre o TEN e Medeiros é de colaboração simbólica e prática: enquanto o grupo teatral lutava por representação e dignidade para pessoas negras no cenário artístico\, o fotógrafo registrava e difundia essa luta com sensibilidade e respeito\, contribuindo de forma decisiva para sua preservação na memória visual brasileira. \nFundado em 1944 por Abdias do Nascimento\, dramaturgo\, ator\, artista plástico\, escritor\, professor universitário\, político e ativista dos direitos civis e humanos das populações negras brasileiras\, o TEN foi uma iniciativa pioneira no combate ao racismo e na promoção da cultura afro-brasileira por meio das artes cênicas. Nascimento tinha como objetivo criar um espaço onde artistas negros pudessem se expressar com autonomia e dignidade\, enfrentando o preconceito que os limitava a papéis estereotipados na sociedade e no teatro da época. \nPara Abdias Nascimento\, o teatro era espelho e resumo da peripécia existencial humana – mas só poderia alcançá-la realmente ao incorporar a humanidade negro-africana em sua dimensão plena. A dignidade dos povos afrodescendentes e a dramaticidade de sua epopeia no Brasil\, as quais Abdias e o TEN buscaram projetar\, transparecem nas imagens criadas por José Medeiros. Amigo e participante do TEN\, o olhar do fotógrafo abraçava e celebrava as pessoas e criações do grupo\, tanto no palco como na cena cultural e política do país.
URL:https://artequeacontece.com.br/evento/teatro-experimental-do-negro-nas-fotografias-de-jose-medeiros-no-instituto-tomie-ohtake/
LOCATION:Instituto Tomie Ohtake\, Rua Coropé\, 88 - Pinheiros\, São Paulo\, SP\, Brasil
CATEGORIES:São Paulo
ATTACH;FMTTYPE=image/jpeg:https://artequeacontece.com.br/wp-content/uploads/2025/06/IPA_RJ16-_-IPEAFRO_TEN__41_MG_0394-1.jpg
END:VEVENT
END:VCALENDAR