BEGIN:VCALENDAR
VERSION:2.0
PRODID:-//Arte Que Acontece - ECPv6.15.20//NONSGML v1.0//EN
CALSCALE:GREGORIAN
METHOD:PUBLISH
X-WR-CALNAME:Arte Que Acontece
X-ORIGINAL-URL:https://artequeacontece.com.br
X-WR-CALDESC:Eventos para Arte Que Acontece
REFRESH-INTERVAL;VALUE=DURATION:PT1H
X-Robots-Tag:noindex
X-PUBLISHED-TTL:PT1H
BEGIN:VTIMEZONE
TZID:America/Sao_Paulo
BEGIN:STANDARD
TZOFFSETFROM:-0300
TZOFFSETTO:-0300
TZNAME:-03
DTSTART:20220101T000000
END:STANDARD
END:VTIMEZONE
BEGIN:VEVENT
DTSTART;TZID=America/Sao_Paulo:20230125T090000
DTEND;TZID=America/Sao_Paulo:20230521T200000
DTSTAMP:20260422T072521
CREATED:20230313T142101Z
LAST-MODIFIED:20230313T142105Z
UID:39182-1674637200-1684699200@artequeacontece.com.br
SUMMARY:TeamLab no Farol Santander
DESCRIPTION:A instalação imersiva TeamLab: Impermanente Flores Flutuando em um Mar Eterno\, apresentada no Farol Santander\, traz uma série de projeções que envolvem e deslocam o espectador de sua localização real\, levando-o a um contato profundo com o entorno e com suas sensações diante de estímulos diversos\, em que a poesia e a tecnologia são aliadas. O teamLab é um coletivo de arte internacional formado em 2001. Sua prática colaborativa busca navegar a confluência entre arte\, ciência\, tecnologia e natureza. Esse grupo interdisciplinar de especialistas inclui artistas\, programadores\, engenheiros\, animadores CG\, matemáticos e arquitetos e pretende explorar\, por meio da arte\, a relação entre o indivíduo e o mundo\, além de novas formas de percepção. Esses integrantes são de diversas cidades ao redor do mundo\, de diversos países\, a saber: Nova York e Palo Alto (EUA)\, Londres (Inglaterra)\, Pequim (China)\, Hong Kong (território autônomo a Sudeste da China)\, Genebra (Suíça) e Seul (Coreia do Sul). Para entender o mundo em que vivem\, as pessoas o separam em entidades independentes\, distinguindo limites entre elas. O teamLab busca transcender esses limites na nossa percepção do mundo\, estabelecendo como ponto de partida uma visão holística e integrada do homem com o universo à sua volta\, na relação entre o indivíduo e o mundo e na continuidade do tempo. Tudo existe em um contínuo longo e frágil\, porém milagroso e sem fronteiras. As obras do teamLab fazem parte do acervo permanente do Museu de Arte Contemporânea de Los Angeles\, da Galeria de Arte de New South Wales\, em Sydney\, da Galeria de Arte de South Australia\, em Adelaide\, do Museu de Arte Asiática de San Francisco\, do Asia Society Museum\, em Nova York\, da Coleção de Arte Contemporânea Borusan\, em Istambul\, da Galeria Nacional de Victoria\, em Melbourne\, e do museu Amos Rex\, em Helsinque. 
URL:https://artequeacontece.com.br/evento/teamlab-no-farol-santander/
LOCATION:Farol Santander\, 24 R. João Brícola Centro Histórico de São Paulo\, São Paulo\, São Paulo\, Brasil
CATEGORIES:São Paulo
ATTACH;FMTTYPE=image/jpeg:https://artequeacontece.com.br/wp-content/uploads/2023/03/71250224-49646077.jpeg
END:VEVENT
END:VCALENDAR