BEGIN:VCALENDAR
VERSION:2.0
PRODID:-//Arte Que Acontece - ECPv6.15.20//NONSGML v1.0//EN
CALSCALE:GREGORIAN
METHOD:PUBLISH
X-WR-CALNAME:Arte Que Acontece
X-ORIGINAL-URL:https://artequeacontece.com.br
X-WR-CALDESC:Eventos para Arte Que Acontece
REFRESH-INTERVAL;VALUE=DURATION:PT1H
X-Robots-Tag:noindex
X-PUBLISHED-TTL:PT1H
BEGIN:VTIMEZONE
TZID:America/Sao_Paulo
BEGIN:STANDARD
TZOFFSETFROM:-0300
TZOFFSETTO:-0300
TZNAME:-03
DTSTART:20220101T000000
END:STANDARD
END:VTIMEZONE
BEGIN:VEVENT
DTSTART;TZID=America/Sao_Paulo:20231109T103000
DTEND;TZID=America/Sao_Paulo:20240225T180000
DTSTAMP:20260423T072709
CREATED:20240216T155739Z
LAST-MODIFIED:20240216T155744Z
UID:46463-1699525800-1708884000@artequeacontece.com.br
SUMMARY:Taylor Wessing Photo Portrait Prize na National Portrait Gallery
DESCRIPTION:Alexandre Silberman\, Diena\, da série “NATURE” (detalhe)\n\n\n\nO Prêmio de Retrato Fotográfico Taylor Wessing retorna à Galeria em St Martin’s Place após três anos. Exibindo talentosos jovens fotógrafos\, amadores habilidosos e profissionais estabelecidos\, a competição celebra uma ampla variedade de imagens e conta as frequentemente fascinantes histórias por trás da criação das obras. As imagens selecionadas\, muitas das quais estão em exibição pela primeira vez\, exploram tanto abordagens tradicionais quanto contemporâneas para o retrato fotográfico\, capturando uma variedade de personagens\, humores e locais.
URL:https://artequeacontece.com.br/evento/taylor-wessing-photo-portrait-prize-na-national-portrait-gallery/
LOCATION:National Portrait Gallery\, St. Martin's Pl\, Londres\, Reino unido
CATEGORIES:Londres
ATTACH;FMTTYPE=image/png:https://artequeacontece.com.br/wp-content/uploads/2024/02/feature_winner_Alexandre-Silberman_Diena.png
END:VEVENT
END:VCALENDAR