BEGIN:VCALENDAR
VERSION:2.0
PRODID:-//Arte Que Acontece - ECPv6.15.20//NONSGML v1.0//EN
CALSCALE:GREGORIAN
METHOD:PUBLISH
X-WR-CALNAME:Arte Que Acontece
X-ORIGINAL-URL:https://artequeacontece.com.br
X-WR-CALDESC:Eventos para Arte Que Acontece
REFRESH-INTERVAL;VALUE=DURATION:PT1H
X-Robots-Tag:noindex
X-PUBLISHED-TTL:PT1H
BEGIN:VTIMEZONE
TZID:America/Sao_Paulo
BEGIN:STANDARD
TZOFFSETFROM:-0300
TZOFFSETTO:-0300
TZNAME:-03
DTSTART:20240101T000000
END:STANDARD
END:VTIMEZONE
BEGIN:VEVENT
DTSTART;TZID=America/Sao_Paulo:20250213T100000
DTEND;TZID=America/Sao_Paulo:20250329T180000
DTSTAMP:20260419T134100
CREATED:20250221T165015Z
LAST-MODIFIED:20250221T165015Z
UID:61241-1739440800-1743271200@artequeacontece.com.br
SUMMARY:"Tau Lewis: Spirit Level" na David Zwirner
DESCRIPTION:Tau Lewis – Divulgação / David Zwirner\nA David Zwirner apresenta Spirit Level\, exposição individual de Tau Lewis (n. 1993) no espaço da galeria em Los Angeles\, localizado na 616 N Western Avenue. A mostra reúne cinco esculturas monumentais e uma colcha circular\, que estrearam na exposição individual da artista no Institute of Contemporary Art\, Boston (2024–2025)\, com curadoria de Jeffrey De Blois. \nAs obras de Spirit Level surgiram em um período de profunda perda para Lewis. Na concepção dessas figuras antropomórficas\, a artista desenvolveu identidades e narrativas que remetem aos passados ancestrais\, às semelhanças espirituais e culturais e às existências em múltiplos planos. Criadas a partir de objetos encontrados e herdados\, cada escultura incorpora o período de transição em que foram feitas\, refletindo também o estado liminar de um objeto material à medida que ele muda de mãos e assume novas formas. \nInspirando-se nas faces do Mar do Caribe\, na música techno e dub\, na literatura e nos estudos sobre religião e espiritualidade\, Lewis expande sua construção de mundos\, criando figuras que reaparecem ao longo de sua prática e que se conectam por aquilo que a artista chama de seu “DNA material”. No espaço amplo da galeria\, essas esculturas imponentes se reúnem em uma presença silenciosa e majestosa\, engajadas em um diálogo espiritual silencioso.
URL:https://artequeacontece.com.br/evento/tau-lewis-spirit-level-na-david-zwirner/
LOCATION:David Zwirner LA\, 606-616 N Western Avenue\, Los Angeles\, Califórnia
CATEGORIES:Los Angeles
ATTACH;FMTTYPE=image/jpeg:https://artequeacontece.com.br/wp-content/uploads/2025/02/4152e1c0d42484ebe9823700a2d78baaa9aad6fa-2800x1576-1.jpg
END:VEVENT
END:VCALENDAR