BEGIN:VCALENDAR
VERSION:2.0
PRODID:-//Arte Que Acontece - ECPv6.15.20//NONSGML v1.0//EN
CALSCALE:GREGORIAN
METHOD:PUBLISH
X-WR-CALNAME:Arte Que Acontece
X-ORIGINAL-URL:https://artequeacontece.com.br
X-WR-CALDESC:Eventos para Arte Que Acontece
REFRESH-INTERVAL;VALUE=DURATION:PT1H
X-Robots-Tag:noindex
X-PUBLISHED-TTL:PT1H
BEGIN:VTIMEZONE
TZID:America/Sao_Paulo
BEGIN:STANDARD
TZOFFSETFROM:-0300
TZOFFSETTO:-0300
TZNAME:-03
DTSTART:20220101T000000
END:STANDARD
END:VTIMEZONE
BEGIN:VEVENT
DTSTART;TZID=America/Sao_Paulo:20231116T110000
DTEND;TZID=America/Sao_Paulo:20240428T180000
DTSTAMP:20260422T055728
CREATED:20231113T190628Z
LAST-MODIFIED:20231113T190633Z
UID:44837-1700132400-1714327200@artequeacontece.com.br
SUMMARY:Tau Lewis no ICA Miami
DESCRIPTION:Usando tecidos e objetos encontrados\, herdados e de segunda mão\, Lewis contempla as histórias afetivas de seus materiais. Durante esses processos de transformação\, histórias e vozes díspares são resgatadas das fibras; em massa\, elas impregnam as formas de Lewis com potência e vida. \n\n\n\nA nova escultura da artista\, intitulada The cure will be completed in my body\, silence your spirit to let me reach you\, my skin will secrete angels and you will have forgotten and forgiven all (2023)\, evoca um mundo mítico de sua própria criação. Lewis cria em iterações\, concebendo suas séries de trabalhos de forma semelhante a capítulos espalhados por diferentes volumes. A mais recente exploração da Saint Mozelle de Lewis — que ela descreve como uma divindade tutelar — forma o centro da instalação e transborda com flores que se transformam e outras pequenas formas de vida. Os materiais\, incluindo joias encontradas\, retalhos de couro\, peles de tambor\, dentes e outros talismãs\, carregam atributos únicos e mistérios além do que o olho pode ver\, assim como o espírito de Mozelle em si. \n\n\n\nTau Lewis (n. 1993\, Toronto) teve exposições individuais recentes em 52 Walker\, Nova York (2022); Galeria Nacional do Canadá\, Ottawa (2021); e Oakville Galleries\, Ontário (2020). Seu trabalho foi destaque em exposições de prestígio\, incluindo a Bienal de Veneza: “O Leite dos Sonhos” (2022). O trabalho de Lewis está presente em coleções do Metropolitan Museum of Art\, Coleção da Biblioteca\, Nova York; Galeria Nacional do Canadá\, Ottawa; Instituto de Arte Contemporânea\, Miami; Hammer Museum\, Los Angeles; entre muitos outros. Lewis vive e trabalha no Brooklyn. \n\n\n\nInaugurado em 2019\, o Prêmio Ezratti Family de Escultura é concedido pelo ICA Miami a um artista vivo em reconhecimento às suas contribuições excepcionais na escultura e apoia a criação de uma nova comissão. Construindo sobre a história do museu de encomendar e apresentar novas obras\, o prêmio reflete o compromisso contínuo do ICA Miami em promover a experimentação na prática artística e fornecer uma plataforma internacional para vozes influentes na arte contemporânea. Recipientes anteriores do Prêmio Ezratti de Escultura incluem Chakaia Booker\, Damián Ortega e Robert Grosvenor.
URL:https://artequeacontece.com.br/evento/tau-lewis-no-ica-miami/
LOCATION:Institute of Contemporary Art Miami\, 61 NE 41st Street\, Miami\, Flórida\, Estados Unidos
CATEGORIES:Miami
ATTACH;FMTTYPE=image/jpeg:https://artequeacontece.com.br/wp-content/uploads/2023/11/ab0ef67e-tau-lewis-ica-miami-detail-scaled-1-1.jpg
END:VEVENT
END:VCALENDAR