BEGIN:VCALENDAR
VERSION:2.0
PRODID:-//Arte Que Acontece - ECPv6.15.20//NONSGML v1.0//EN
CALSCALE:GREGORIAN
METHOD:PUBLISH
X-WR-CALNAME:Arte Que Acontece
X-ORIGINAL-URL:https://artequeacontece.com.br
X-WR-CALDESC:Eventos para Arte Que Acontece
REFRESH-INTERVAL;VALUE=DURATION:PT1H
X-Robots-Tag:noindex
X-PUBLISHED-TTL:PT1H
BEGIN:VTIMEZONE
TZID:America/Sao_Paulo
BEGIN:STANDARD
TZOFFSETFROM:-0300
TZOFFSETTO:-0300
TZNAME:-03
DTSTART:20240101T000000
END:STANDARD
END:VTIMEZONE
BEGIN:VEVENT
DTSTART;TZID=America/Sao_Paulo:20250717T100000
DTEND;TZID=America/Sao_Paulo:20250831T200000
DTSTAMP:20260422T072147
CREATED:20250721T162927Z
LAST-MODIFIED:20250721T162927Z
UID:63794-1752746400-1756670400@artequeacontece.com.br
SUMMARY:"Tangências/Alumbramento" de Elisa Stecca e Willy Biondani no MIS
DESCRIPTION:Fotos abstratas de florestas tropicais com bromélias\, em exposição imersiva no MIS\, em São Paulo. Crédito: Willy Biondani\nSonhar é preciso. Em tempos difíceis\, a utopia é o que nos move. Esse é o espírito da mostra “Tangências/Alumbramento” que os artistas paulistanos Elisa Stecca e Willy Biondani apresentam\, a partir de 17/julho\, no Museu da Imagem e do Som (MIS)\, instituição da Secretaria de Cultura\, Economia e Indústria Criativas do Estado de São Paulo\, no Jardim Europa\, na capital paulista. A exposição multiplataforma vai reunir\, num espaço de 250m2\, 30 obras inéditas da dupla\, entre fotos\, esculturas\, trabalhos têxteis e tridimensionais destacando a natureza como revelação e encantamento. \nO ponto de partida dos artistas é a biodiversidade única do Brasil. Deslumbramento que remete à carta de Pero Vaz de Caminha quando da invasão dos portugueses ao Brasil\, com a descrição maravilhada da nossa fauna\, flora\, clima e povos originários. Num ambiente mágico e lúdico\, os tons vão do salmão ao rosa e carmim\, em obras pendentes do teto\, em variações de altura que remetem a florestas imaginárias durante todo o percurso da instalação. Em obras inéditas para a mostra\, Elisa Stecca e Willy Biondani\, parceiros de longa data\, tangenciam linguagens e suportes\, utopia e razão\, fluido e concreto\, sonho e realidade. Entrelaçam trajetórias\, olhares e obras em transparências\, luzes\, cores e a alquimia dos tecidos. A ambientação sonora é assinada pelo músico\, compositor e produtor musical Cid Campos\, que cria um clima de mistério e surpresa. “Guerras\, autoritarismos\, a extrema-direita crescendo mundo afora. A realidade se mostra cada vez mais distópica e sombria. Por isso\, a mostra é um trabalho de resistência que evoca a natureza e suas dimensões poéticas\, o sonho como grande motor da alma e a criação como única alternativa em tempos de medo”\, define Willy Biondani. \nDepois de um mergulho no azul\, com a bem-sucedida exposição “Sobre o Azul”\, na Herança Cultural\, Elisa Stecca e Willy Biondani preparam novidades ao estilo imersivo do MIS. Dentre elas\, projeções entre elementos da natureza\, sensores sonoros por aproximação\, esculturas construídas em formato de vegetais híbridos e encontros improváveis\, como materiais duros e frios (pedras\, latão\, vidro) em contraste com feltros quentes. “O meu último trabalho tinha o mar como metáfora de território infinito. E agora\, nessa mostra\, a natureza também é o sopro inspirador\, com sua exuberância\, texturas e biomas”\, destaca Elisa Stecca. \nDa iluminação física à emocional\, da surpresa à descoberta. “Alumbramento”\, que tem origem no latim “alumbrare”\, significa “iluminar” ou “clarear”. Encantamento com a natureza que inspirou os artistas e que ecoa na mente durante a visita. No percurso da instalação\, há fotos abstratas de Willy Biondani de florestas e reflexos das obras de vidro de Elisa Stecca. Fotógrafo e cineasta\, Biondani soma mais de 40 anos de experiência no audiovisual. Cursou a Faculdade de Belas Artes\, em São Paulo\, começou sua carreira como fotógrafo. Viveu seis anos em Paris\, onde teve trabalhos publicados em conceituadas revistas\, como a inglesa ID\, a alemã Wienner\, e as francesas Votre Beauté e Marie Claire. Escreveu e dirigiu filmes como Nocaute (1995) e Diadorim e Riobaldo (2009). Teve seus trabalhos exibidos em galerias e mostras como: Bienal de Roma\, MASP e Ludwig Museum. Em publicidade\, recebeu prêmios no Art Directors\, Clio\, Cannes e CCSP. \nFoi justamente nesse circuito de moda que conheceu Elisa Stecca\, na década de 1980. Desde 2023\, trabalham juntos no projeto “Tangências”\, entrelaçando linguagens artísticas\, obras e trajetórias. Elisa trabalhou como produtora de moda da Folha de S.Paulo\, revista Claudia e foi editora de moda e beleza da Vogue. Cursou Direito na USP e se formou em Artes Plásticas na FAAP. Estudou joalheria com Nelson Alvim\, estilo com Marie Rucki\, do Studio Berçot\, em Paris\, e técnicas variadas em vidro na Pilchuck Glass School\, em Seattle. Nas obras e na trajetória\, Elisa catalisa e canaliza ideias em busca de materiais. Multimídia\, designer\, artista plástica\, escultora\, pintora\, retrata suas poéticas e lutas em suportes variados e inusitados\, com obras em museus e galerias nacionais (Museu de Arte Sacra\, MASP\, Centro Cultural Vergueiro) e internacionais (Museum of Contemporary Art\, Los Angeles\, The Weissman Museum of Minnesota\, Claustro de la Basílica de La Puríssima Concepción\, na Espanha). Desmistificando e simplificando os êxitos\, lançou recentemente o livro em formato de caixinha\, o Oráculo do Sucesso (Matrix Editora). \nNa coordenação e produção da mostra estão Fabio Delduque (Festival Arte Serrinha) e Veridiana Aleixo; na arquitetura\, Carlos Warchavchik e no texto curatorial\, Eder Chiodetto. Impactar pela beleza. Artistas que convidam os visitantes a verem com novos olhos a natureza e a arte. A sensibilidade é o campo de batalha.
URL:https://artequeacontece.com.br/evento/tangencias-alumbramento-de-elisa-stecca-e-willy-biondani-no-mis/
LOCATION:MIS\, Av. Europa\, 158 - Jardim Europa\, São Paulo\, SP\, Brasil
CATEGORIES:São Paulo
ATTACH;FMTTYPE=image/jpeg:https://artequeacontece.com.br/wp-content/uploads/2025/07/image005.jpg
END:VEVENT
END:VCALENDAR