BEGIN:VCALENDAR
VERSION:2.0
PRODID:-//Arte Que Acontece - ECPv6.15.20//NONSGML v1.0//EN
CALSCALE:GREGORIAN
METHOD:PUBLISH
X-WR-CALNAME:Arte Que Acontece
X-ORIGINAL-URL:https://artequeacontece.com.br
X-WR-CALDESC:Eventos para Arte Que Acontece
REFRESH-INTERVAL;VALUE=DURATION:PT1H
X-Robots-Tag:noindex
X-PUBLISHED-TTL:PT1H
BEGIN:VTIMEZONE
TZID:America/Sao_Paulo
BEGIN:STANDARD
TZOFFSETFROM:-0300
TZOFFSETTO:-0300
TZNAME:-03
DTSTART:20220101T000000
END:STANDARD
END:VTIMEZONE
BEGIN:VEVENT
DTSTART;TZID=America/Sao_Paulo:20230908T100000
DTEND;TZID=America/Sao_Paulo:20231014T180000
DTSTAMP:20260422T124224
CREATED:20230908T203915Z
LAST-MODIFIED:20230908T204403Z
UID:43808-1694167200-1697306400@artequeacontece.com.br
SUMMARY:"Susie’s Mother Tongue" de Ashley Bickerton na Gagosian
DESCRIPTION:A Gagosian apresenta uma exposição de esculturas e pinturas de Ashley Bickerton (1959–2022)\, incluindo suas pinturas inéditas da série Blur. Concebida como uma visão geral da carreira\, a seleção de obras foi feita e a instalação planejada por Bickerton durante uma viagem a Nova York na primavera de 2022. É a primeira exposição individual de Bickerton na galeria e a primeira desde que a Gagosian anunciou sua representação do artista em 2022. A apresentação de mais de vinte e cinco obras abre na 522 West 21st Street em Nova York em 8 de setembro de 2023. Originalmente identificado com as tendências neoconceituais/neogeométricas do final dos anos 1980 em Nova York\, Bickerton ganhou notoriedade com construções abstratas e irônicas focadas em temas de consumismo\, identidade e valor. Quando se mudou para a ilha indonésia de Bali em 1993\, seu trabalho tomou um rumo “exótico” conscientemente irônico\, seu aspecto ornamentado e artesanal contrastando fortemente com o distanciamento conceitual da produção anterior do artista. Nos últimos anos de sua vida\, Bickerton trouxe sua prática de volta ao início\, sintetizando seus modos heterogêneos em uma linguagem visual abrangente. Sua abordagem e estética foram comentadas por uma variedade intergeracional de artistas\, incluindo Matthew Barney\, Damien Hirst\, Jeff Koons e Jordan Wolfson\, e esta exposição oferece uma oportunidade para celebrar seu legado e influência contínua.
URL:https://artequeacontece.com.br/evento/susies-mother-tongue-de-ashley-bickerton-na-gagosian/
LOCATION:Gagosian\, 555 West 24th Street\, Nova York\, Nova York\, Estados Unidos
CATEGORIES:Nova York
ATTACH;FMTTYPE=image/jpeg:https://artequeacontece.com.br/wp-content/uploads/2023/09/16861_0-2-1.jpg
END:VEVENT
END:VCALENDAR