BEGIN:VCALENDAR
VERSION:2.0
PRODID:-//Arte Que Acontece - ECPv6.15.20//NONSGML v1.0//EN
CALSCALE:GREGORIAN
METHOD:PUBLISH
X-WR-CALNAME:Arte Que Acontece
X-ORIGINAL-URL:https://artequeacontece.com.br
X-WR-CALDESC:Eventos para Arte Que Acontece
REFRESH-INTERVAL;VALUE=DURATION:PT1H
X-Robots-Tag:noindex
X-PUBLISHED-TTL:PT1H
BEGIN:VTIMEZONE
TZID:America/Sao_Paulo
BEGIN:STANDARD
TZOFFSETFROM:-0300
TZOFFSETTO:-0300
TZNAME:-03
DTSTART:20230101T000000
END:STANDARD
END:VTIMEZONE
BEGIN:VEVENT
DTSTART;TZID=America/Sao_Paulo:20240120T120000
DTEND;TZID=America/Sao_Paulo:20240224T190000
DTSTAMP:20260422T060008
CREATED:20240205T174045Z
LAST-MODIFIED:20240205T174050Z
UID:46122-1705752000-1708801200@artequeacontece.com.br
SUMMARY:"Sunsets" de Matt Belk na The Hole Tribeca
DESCRIPTION:A The Hole tem o prazer de apresentar Sunsets\, a primeira exposição individual de Matt Belk em Nova York. Belk cria pinturas de paisagens que retratam o mundo natural por meio de um olhar estranho\, com complexidade e precisão que desafiam a distinção entre o real e o imaginado. \n\n\n\nCom nove novas pinturas e uma escultura de pato isca\, Belk continua sua representação fantástica da América rural e da flora e fauna encontradas na prática da caça. Cada pintura apresenta um pôr do sol ou uma lua nascendo\, e o design da exposição divide a galeria em tarde\, pôr do sol e noite. Um salmão sockeye é carregado por um falcão enquanto o sol começa a se pôr; colhereiros-rosa se banham ao anoitecer enquanto as últimas cores alaranjadas deixam o céu; constelações aparecem no céu e na superfície escura da água enquanto a lua começa a subir. \n\n\n\nUsando aerógrafo\, fita adesiva e estilete\, Belk sobrepuja plantas\, animais e convidados inesperados com precisão e sagacidade. Dando forma à natureza usando uma estética digital\, Belk cria composições feitas à mão que contêm dois mundos em contraste nítido: acima e abaixo da linha d’água. Esses reinos mesclam realidade e fantasia\, com carros dirigindo debaixo d’água e gansos do Canadá se misturando com cactos acima\, ou um pequeno vulcão entrando em erupção ao lado de uma onça-parda. \n\n\n\nEssas pinturas são mais retratos de animais do que pinturas de presas. O rosto de cada animal expressa emoção e muitas vezes olha diretamente para o espectador\, com um pato olhando de lado e um cervo curioso perguntando “o que você está olhando?”. E os peixes! Muitos deles com rostos humanos e olhos humanos que encaram\, sorriem com coqueteria\, ficam com olhar vazio\, se beijam e são carregados por predadores. \n\n\n\nCom base em Omaha\, Nebraska\, e criado como caçador\, Belk traz experiência vivida para suas pinturas. Um pintor talentoso sem o treinamento tradicional do mundo da arte\, Belk faz arte e treina cães de caça ao mesmo tempo. Ele nota educadamente a natureza por vezes condescendente dos urbanos e\, de sua posição fora do mundo da arte convencional\, escolhe tornar seu trabalho mais lúdico\, convidativo e acessível para aqueles que podem estar pouco familiarizados ou desdenhosos da cultura e história da caça.
URL:https://artequeacontece.com.br/evento/sunsets-de-matt-belk-na-the-hole-tribeca/
LOCATION:The Hole Tribeca\, 86 Walker St.\, Nova York\, Nova York\, Estados Unidos
CATEGORIES:Nova York
ATTACH;FMTTYPE=image/jpeg:https://artequeacontece.com.br/wp-content/uploads/2024/02/Matt-Belk-Tulum-2023.jpg
END:VEVENT
END:VCALENDAR