BEGIN:VCALENDAR
VERSION:2.0
PRODID:-//Arte Que Acontece - ECPv6.15.20//NONSGML v1.0//EN
CALSCALE:GREGORIAN
METHOD:PUBLISH
X-WR-CALNAME:Arte Que Acontece
X-ORIGINAL-URL:https://artequeacontece.com.br
X-WR-CALDESC:Eventos para Arte Que Acontece
REFRESH-INTERVAL;VALUE=DURATION:PT1H
X-Robots-Tag:noindex
X-PUBLISHED-TTL:PT1H
BEGIN:VTIMEZONE
TZID:America/Sao_Paulo
BEGIN:STANDARD
TZOFFSETFROM:-0300
TZOFFSETTO:-0300
TZNAME:-03
DTSTART:20240101T000000
END:STANDARD
END:VTIMEZONE
BEGIN:VEVENT
DTSTART;TZID=America/Sao_Paulo:20250504T110000
DTEND;TZID=America/Sao_Paulo:20250824T180000
DTSTAMP:20260422T073635
CREATED:20250610T181044Z
LAST-MODIFIED:20250610T181044Z
UID:63127-1746356400-1756058400@artequeacontece.com.br
SUMMARY:"Substrate" de Nancy Baker Cahill no LACMA
DESCRIPTION:Nancy Baker Cahill\, “Substrate”\, 2025\, realidade aumentada interativa\, comissionada pelo Art + Technology Lab do Los Angeles County Museum of Art.\n\n\n\n\nUma experiência monumental de realidade aumentada interativa\, Substrate\, de Nancy Baker Cahill\, convida o espectador a refletir sobre as conexões entre organizações dedicadas à produção de conhecimento\, ao contribuir com suas próprias descrições de artefatos culturalmente significativos. Inspirando-se em imagens e exemplos de redes encontradas na natureza\, Baker Cahill retrata o LACMA\, a Biblioteca Central da Biblioteca Pública de Los Angeles e o sistema de faculdades comunitárias da Califórnia como árvores abstratas interligadas\, com sistemas de raízes e redes de micélio que produzem nutrientes essenciais para a saúde e o bem-estar humanos. A obra tem como base o projeto homônimo anterior da artista\, apoiado pelo Art + Technology Lab do LACMA\, que utilizou conceitos futuristas de cidadania e pensamento sistêmico para demonstrar o potencial de colaborações entre polos cívicos locais.
URL:https://artequeacontece.com.br/evento/substrate-de-nancy-baker-cahill-no-lacma/
LOCATION:LACMA\, 5905 Wilshire Blvd Central LA\, Los Angeles\, Califórnia\, Estados Unidos
CATEGORIES:Los Angeles
ATTACH;FMTTYPE=image/jpeg:https://artequeacontece.com.br/wp-content/uploads/2025/06/LACMA_WebBanner_NBCS_2025_2000_alt-1.jpg
END:VEVENT
END:VCALENDAR