BEGIN:VCALENDAR
VERSION:2.0
PRODID:-//Arte Que Acontece - ECPv6.15.20//NONSGML v1.0//EN
CALSCALE:GREGORIAN
METHOD:PUBLISH
X-WR-CALNAME:Arte Que Acontece
X-ORIGINAL-URL:https://artequeacontece.com.br
X-WR-CALDESC:Eventos para Arte Que Acontece
REFRESH-INTERVAL;VALUE=DURATION:PT1H
X-Robots-Tag:noindex
X-PUBLISHED-TTL:PT1H
BEGIN:VTIMEZONE
TZID:America/Sao_Paulo
BEGIN:STANDARD
TZOFFSETFROM:-0300
TZOFFSETTO:-0300
TZNAME:-03
DTSTART:20220101T000000
END:STANDARD
END:VTIMEZONE
BEGIN:VEVENT
DTSTART;TZID=America/Sao_Paulo:20230614T090000
DTEND;TZID=America/Sao_Paulo:20230807T200000
DTSTAMP:20260419T102257
CREATED:20230614T152255Z
LAST-MODIFIED:20230620T173334Z
UID:41460-1686733200-1691438400@artequeacontece.com.br
SUMMARY:Studio DRIFT no CCBB SP
DESCRIPTION:O Centro Cultural Banco do Brasil São Paulo apresenta uma seleção bastante representativa da produção do DRIFT\, dupla de artistas holandeses que recupera em esculturas e instalações a relação da humanidade com a natureza. As obras Amplitude e EGO ocuparão o novo anexo de 300 metros quadrados que marca a expansão do CCBB SP\, localizado bem à frente do endereço tradicional do museu; o novo espaço cultural possui dois andares\, auditório reversível e corrobora com a transformação do centro histórico da cidade. Em 2007\, os artistas Lonneke Gordijn e Ralph Nauta criaram o DRIFT\, na Holanda. Desde então\, eles vêm desenvolvendo esculturas\, instalações e performances que colocam pessoas\, ambiente e natureza na mesma frequência. Suas obras sugerem ao público uma reconexão com o planeta e poderão ser conferidas gratuitamente no CCBB SP. Usando a luz como um dos elementos básicos de construção de sua arte\, a dupla explora as relações entre humanos\, natureza e tecnologia de forma simples e ao mesmo tempo profunda\, conferindo aos visitantes a oportunidade de vivenciarem obras que tocam em elementos essenciais da vida na Terra. De acordo com Alfons Hug\, curador da mostra\, ao colocar a luz como elemento central de suas composições artísticas\, o DRIFT “aponta para a ociosidade da vida cotidiana e a futilidade da atividade humana”. O curador afirma ainda que a luz\, no DRIFT\, “nos faz pensar no mundo de hoje\, mas também em nossas origens\, pois esta luz vem de longe e contém um vislumbre do passado remoto”. Marcello Dantas\, curador da exposição ao lado de Hug\, explica que existe uma racionalidade por trás das obras do DRIFT\, que é a possibilidade da natureza e da tecnologia viverem em harmonia. “Seja pelo mundo biônico\, seja pelo conceito de animismo\, em que todas as coisas – animais\, fenômenos naturais e objetos inanimados – possuem um espírito que os conecta uns aos outros”.
URL:https://artequeacontece.com.br/evento/studio-drift-no-ccbb-sp/
LOCATION:CCBB\, 112 R. Álvares Penteado Centro Histórico de São Paulo\, São Paulo\, São Paulo\, Brasil
CATEGORIES:Destaque,São Paulo
ATTACH;FMTTYPE=image/jpeg:https://artequeacontece.com.br/wp-content/uploads/2023/06/studio-drift_ccbb-sp.jpg
END:VEVENT
END:VCALENDAR