BEGIN:VCALENDAR
VERSION:2.0
PRODID:-//Arte Que Acontece - ECPv6.15.20//NONSGML v1.0//EN
CALSCALE:GREGORIAN
METHOD:PUBLISH
X-WR-CALNAME:Arte Que Acontece
X-ORIGINAL-URL:https://artequeacontece.com.br
X-WR-CALDESC:Eventos para Arte Que Acontece
REFRESH-INTERVAL;VALUE=DURATION:PT1H
X-Robots-Tag:noindex
X-PUBLISHED-TTL:PT1H
BEGIN:VTIMEZONE
TZID:America/Sao_Paulo
BEGIN:STANDARD
TZOFFSETFROM:-0300
TZOFFSETTO:-0300
TZNAME:-03
DTSTART:20240101T000000
END:STANDARD
END:VTIMEZONE
BEGIN:VEVENT
DTSTART;TZID=America/Sao_Paulo:20250617T100000
DTEND;TZID=America/Sao_Paulo:20250719T190000
DTSTAMP:20260425T174322
CREATED:20250621T171641Z
LAST-MODIFIED:20250621T171641Z
UID:63355-1750154400-1752951600@artequeacontece.com.br
SUMMARY:"Stella Margarita: Fugas que se movem" no Instituto Cervantes
DESCRIPTION:Stella Margarita\, “Batismo”\, 2021 – Divulgação\nA trajetória de Stella Margarita pelo circuito artístico do Rio de Janeiro foi breve\, mas profundamente marcante. Um recorte significativo de sua produção poderá ser contemplado na exposição “Stella Margarita: Fugas que se movem”\, que será inaugurada no Instituto Cervantes do Rio de Janeiro\, no dia 17 de junho. A expressão “fugas que se movem” é da própria Stella. A partir dela\, foi construído este retrato curatorial\, um convite à imersão na força psicológica e humana de sua pintura. \nTendo como ponto em comum a investigação da dimensão humana e do movimento físico e emocional\, foram selecionadas algumas de suas principais séries\, entre elas Abraços\, Álbum de Família e Fotogramas. A proposta desta individual é oferecer ao público uma imersão nessas fugas: uma visão de mundo singular\, ancorada na dimensão humana mais do que na estética pura. Embora sua técnica fosse apurada\, o verdadeiro motor de sua criação sempre foi o sentimento. Stella buscava traduzir emoções em imagem – por isso\, dedicou-se intensamente a retratar olhares\, gestos\, abraços. Fundos marcantes\, muitas vezes abstratos\, revelam atmosferas emocionais. Os personagens parecem levitar\, cair\, escapar\, ms como se trata de fugas que se movem\, há sempre a possibilidade do reencontro\, da volta. \nAtualmente\, sua obra pode ser vista na novela Vale Tudo (TV Globo)\, nas telas assinadas pela personagem Heleninha\, interpretada por Paolla Oliveira. \n“O movimento é um elemento central na linguagem de Stella. Ele se revela na pincelada livre e marcante\, nos flagrantes de cenas cotidianas\, e nas apropriações que fez do cinema e da performance\, incorporando essas expressões a sua própria. Mas trata-se sempre de um movimento em fuga – fugas que se movem\, fugas que retornam. É nessa constante busca e deslocamento que sua obra pulsa com uma densidade psicológica única. Muitas vezes perturbadora. Um convite à fuga\, e ao retorno”. \nStella iniciou sua formação artística tardiamente\, na Escola de Artes Visuais do Parque Lage. Produziu intensamente por cerca de uma década\, combinando urgência criativa e consistência técnica. Reinventou-se diversas vezes; adotou novos nomes\, novos projetos e abraçou uma nova missão artística. Ganhou prêmios\, como o do IBEU\, participou de uma residência em Leipzig\, e integrou diversas exposições. Sua ascensão\, no entanto\, foi abruptamente interrompida em 2020 por um diagnóstico de ELA bulbar\, uma forma agressiva e rara da doença. Frente à progressiva limitação motora\, Stella impôs a si mesma uma nova resistência: espalhou em seu ateliê a frase “fuerza carajo” como um grito de vida. E seguiu criando. Em 2021\, montou um estúdio improvisado em Genebra\, onde considerava iniciar um tratamento experimental. Contudo\, optou por voltar ao Rio de Janeiro\, e transformou sua casa em espaço de produção. \nMesmo com a redução da motricidade e do tamanho dos quadros\, a potência emocional se manteve intacta. Talvez como um gesto de ironia poética\, suas últimas telas retratam cenas leves da vida familiar\, cores quentes\, ambientes externos\, cotidianos ternos. Uma fuga\, ou talvez uma síntese. Stella partiu precocemente em 2022\, aos 66 anos de idade\, deixando um legado artístico admirável.
URL:https://artequeacontece.com.br/evento/stella-margarita-fugas-que-se-movem-no-instituto-cervantes/
LOCATION:Instituto Cervantes do Rio de Janeiro\, Rua Visconde de Ouro Preto\, 62 – Botafogo\, Rio de Janeiro\, RJ\, Brazil
CATEGORIES:Rio de Janeiro
ATTACH;FMTTYPE=image/jpeg:https://artequeacontece.com.br/wp-content/uploads/2025/06/batismo-2021-2560x2378-1.jpg
END:VEVENT
END:VCALENDAR