BEGIN:VCALENDAR
VERSION:2.0
PRODID:-//Arte Que Acontece - ECPv6.15.20//NONSGML v1.0//EN
CALSCALE:GREGORIAN
METHOD:PUBLISH
X-WR-CALNAME:Arte Que Acontece
X-ORIGINAL-URL:https://artequeacontece.com.br
X-WR-CALDESC:Eventos para Arte Que Acontece
REFRESH-INTERVAL;VALUE=DURATION:PT1H
X-Robots-Tag:noindex
X-PUBLISHED-TTL:PT1H
BEGIN:VTIMEZONE
TZID:America/Sao_Paulo
BEGIN:STANDARD
TZOFFSETFROM:-0300
TZOFFSETTO:-0300
TZNAME:-03
DTSTART:20230101T000000
END:STANDARD
END:VTIMEZONE
BEGIN:VEVENT
DTSTART;TZID=America/Sao_Paulo:20240606T100000
DTEND;TZID=America/Sao_Paulo:20240720T180000
DTSTAMP:20260422T073507
CREATED:20240607T135134Z
LAST-MODIFIED:20240607T135137Z
UID:49018-1717668000-1721498400@artequeacontece.com.br
SUMMARY:"Star of a Hero" de Gustavo Nazareno na Cassina Projects
DESCRIPTION:Gustavo Nazareno | Cassina Projects\n\n\n\nPosicionando o mais recente conjunto de obras do artista contra a arquitetura imponente do andar superior da galeria\, a exposição faz referências livres à pintura homônima feita em 1936 por Nicholas Roerich (1874-1947)\, figura lendária cujos estudos abrangiam antropologia\, etnografia\, ocultismo\, arqueologia\, teosofia ao lado da arte e pintura ao longo dos séculos 19 e 20. \n\n\n\nInfluências religiosas e artísticas andam de mãos dadas ao longo da mostra enquanto Nazareno traça uma narrativa visual de seu desvelamento espiritual e criativo. Concebida como uma oferta ao panteão dos Orixás ao qual o artista dedica sua prática\, as pinturas em exibição abrangem paisagens\, figuras híbridas\, animais e flores\, lançando uma luz não hierárquica sobre o vasto repertório pictórico de Nazareno. \n\n\n\nOscilando entre o místico e o alegórico\, a abordagem de Nazareno à pintura está enraizada em uma visão de mundo distinta dos valores racionalistas\, seculares e científicos informados pela impressão cultural ocidental. Suas abordagens possuídas aos cânones tradicionais flertam com o ocultismo e o espiritismo para ressuscitar sistemas de crenças antigos e folclores esquecidos. \n\n\n\nPinceladas fluidas e tomadas cinematográficas revelam elementos da pintura renascentista e da pintura religiosa tradicional\, enquanto tecidos suntuosos drapeados ao redor das figuras instilam uma aura hierática à exposição. Através do jogo enigmático de luz e sombra\, noções binárias\, como sagrado e profano\, vida e morte\, humano e natureza\, corpo e alma\, dançam um tango selvagem pelas suas telas\, abraçando uma visão liminar de nossa experiência terrena. \n\n\n\nCrucial para a prática e experiência de Nazareno em geral\, o espiritual e o estético entrelaçados geram uma força galvanizante. Um fulgor que atravessa essa dimensão de tempo atomizada.
URL:https://artequeacontece.com.br/evento/star-of-a-hero-de-gustavo-nazareno-na-cassina-projects/
LOCATION:Cassina Projects\, Via Mecenate\, 76/45\, Milão\, Itália
CATEGORIES:Milão
ATTACH;FMTTYPE=image/jpeg:https://artequeacontece.com.br/wp-content/uploads/2024/06/Gustavo-Nazareno.jpg
END:VEVENT
END:VCALENDAR