BEGIN:VCALENDAR
VERSION:2.0
PRODID:-//Arte Que Acontece - ECPv6.15.20//NONSGML v1.0//EN
CALSCALE:GREGORIAN
METHOD:PUBLISH
X-WR-CALNAME:Arte Que Acontece
X-ORIGINAL-URL:https://artequeacontece.com.br
X-WR-CALDESC:Eventos para Arte Que Acontece
REFRESH-INTERVAL;VALUE=DURATION:PT1H
X-Robots-Tag:noindex
X-PUBLISHED-TTL:PT1H
BEGIN:VTIMEZONE
TZID:America/Sao_Paulo
BEGIN:STANDARD
TZOFFSETFROM:-0300
TZOFFSETTO:-0300
TZNAME:-03
DTSTART:20230101T000000
END:STANDARD
END:VTIMEZONE
BEGIN:VEVENT
DTSTART;TZID=America/Sao_Paulo:20240321T110000
DTEND;TZID=America/Sao_Paulo:20240908T180000
DTSTAMP:20260422T072453
CREATED:20240607T164445Z
LAST-MODIFIED:20240607T164448Z
UID:49181-1711018800-1725818400@artequeacontece.com.br
SUMMARY:"Spirit in the Land" no Pérez Art Museum Miami
DESCRIPTION:Allison Janae Hamilton\, Floridawater II\, 2019 © Allison Janae Hamilton. Cortesia da artista e da Galeria Marianne Boesky\, Nova York e Aspen.\n\n\n\n“Spirit in the Land” é uma exposição de arte contemporânea que examina as urgentes preocupações ecológicas de hoje a partir de uma perspectiva cultural\, demonstrando como nossas identidades e ambientes naturais estão intrinsecamente entrelaçados. Por meio de suas obras\, trinta artistas nos mostram como nossas mais caras tradições culturais estão enraizadas na terra\, como nossa relação com a terra e a água nos molda como indivíduos e comunidades. As obras refletem o potencial restaurador de nossa conexão com a natureza e exemplificam como a biodiversidade e a diversidade cultural são essenciais para nossa sobrevivência. \n\n\n\nEsses artistas exploram as maneiras pelas quais nossos espaços internos espelham os externos em obras que celebram a profunda beleza de nosso mundo e lamentam sua perda\, e com ela\, as histórias desaparecidas de pessoas e lugares. \n\n\n\nComo as batalhas contra as mudanças climáticas são frequentemente mais críticas para comunidades marginalizadas — a justiça ambiental é justiça social e racial — a exposição e o catálogo centralizam as vozes dos artistas que abordam a conscientização ecológica com uma atenção especial às comunidades mais negativamente afetadas. Atuando como guardiões ambientais\, os artistas recuperam e revitalizam nosso entendimento da natureza como um repositório de memória cultural\, um lugar de santuário\, um local de resistência e uma fonte de nutrição espiritual e cura. À medida que a terra e a água proporcionam um senso de pertencimento e comunidade\, a exposição ilustra nossa interdependência com toda a vida na Terra. \n\n\n\n“Spirit in the Land” tem suas raízes na América do Norte\, com ramificações alcançando o Caribe. Enquanto esses artistas investigam ambientes naturais sob estresse\, a exposição apresenta uma crença na possibilidade de transformação e regeneração. Nosso desejo de viver em harmonia com a natureza é\, em última análise\, o que determinará nosso futuro.
URL:https://artequeacontece.com.br/evento/spirit-in-the-land-no-perez-art-museum-miami/
LOCATION:Pérez Art Museum Miami\, 1103 Biscayne Blvd.\, Miami\, Flórida\, Estados Unidos
CATEGORIES:Miami
ATTACH;FMTTYPE=image/jpeg:https://artequeacontece.com.br/wp-content/uploads/2024/06/Hamilton-scaled-1.jpg
END:VEVENT
END:VCALENDAR