BEGIN:VCALENDAR
VERSION:2.0
PRODID:-//Arte Que Acontece - ECPv6.15.20//NONSGML v1.0//EN
CALSCALE:GREGORIAN
METHOD:PUBLISH
X-WR-CALNAME:Arte Que Acontece
X-ORIGINAL-URL:https://artequeacontece.com.br
X-WR-CALDESC:Eventos para Arte Que Acontece
REFRESH-INTERVAL;VALUE=DURATION:PT1H
X-Robots-Tag:noindex
X-PUBLISHED-TTL:PT1H
BEGIN:VTIMEZONE
TZID:America/Sao_Paulo
BEGIN:STANDARD
TZOFFSETFROM:-0300
TZOFFSETTO:-0300
TZNAME:-03
DTSTART:20230101T000000
END:STANDARD
END:VTIMEZONE
BEGIN:VEVENT
DTSTART;TZID=America/Sao_Paulo:20240323T100000
DTEND;TZID=America/Sao_Paulo:20240922T180000
DTSTAMP:20260422T060426
CREATED:20240830T175734Z
LAST-MODIFIED:20240830T175734Z
UID:50727-1711188000-1727028000@artequeacontece.com.br
SUMMARY:"Sonya Clark: We Are Each Other" no Museum of Arts and Design
DESCRIPTION:Uma carteira escolar com a imagem gravada a laser da bandeira de trégua instalada para Lesson Plan (Confederate Truce Flag)\, 2019. @nyceventphotography\n\n\n\n\nDestacando trinta anos de produção artística dedicada à experiência negra nos Estados Unidos\, Sonya Clark: We Are Each Other é a primeira exposição abrangente dos projetos de arte comunitária que formam o cerne da prática criativa pioneira da artista. Acompanhada por uma seleção de fotografias\, gravuras e esculturas de Clark\, a exposição apresenta cinco dos projetos colaborativos em grande escala da artista\, incluindo o inovador The Hair Craft Project (2014) e a performance contínua Unraveling. \nTrabalhando com uma ampla variedade de materiais emocionalmente ressonantes e objetos do cotidiano—desde tecido de algodão e cabelo humano até carteiras escolares e tijolos—Clark incentiva o público a confrontar os desequilíbrios históricos e as injustiças raciais do país através da transformação material. O uso de materiais artesanais tradicionais\, seu conhecimento aplicado de técnicas artesanais globais e as colaborações comunitárias que são essenciais para a integridade da arte de Clark estão entre as muitas maneiras pelas quais a artista representa e homenageia os legados da diáspora africana na vida negra.
URL:https://artequeacontece.com.br/evento/sonya-clark-we-are-each-other-no-museum-of-arts-and-design/
LOCATION:Museum of Arts and Design\, 2 Columbus Circle\, Nova York\, Nova York\, Estados Unidos
CATEGORIES:Nova York
ATTACH;FMTTYPE=image/jpeg:https://artequeacontece.com.br/wp-content/uploads/2024/08/SLIDE-3-1.jpeg
END:VEVENT
END:VCALENDAR