BEGIN:VCALENDAR
VERSION:2.0
PRODID:-//Arte Que Acontece - ECPv6.15.20//NONSGML v1.0//EN
CALSCALE:GREGORIAN
METHOD:PUBLISH
X-WR-CALNAME:Arte Que Acontece
X-ORIGINAL-URL:https://artequeacontece.com.br
X-WR-CALDESC:Eventos para Arte Que Acontece
REFRESH-INTERVAL;VALUE=DURATION:PT1H
X-Robots-Tag:noindex
X-PUBLISHED-TTL:PT1H
BEGIN:VTIMEZONE
TZID:America/Sao_Paulo
BEGIN:STANDARD
TZOFFSETFROM:-0300
TZOFFSETTO:-0300
TZNAME:-03
DTSTART:20210101T000000
END:STANDARD
END:VTIMEZONE
BEGIN:VEVENT
DTSTART;TZID=America/Sao_Paulo:20221020T100000
DTEND;TZID=America/Sao_Paulo:20230226T180000
DTSTAMP:20260422T053327
CREATED:20230213T213449Z
LAST-MODIFIED:20230215T232108Z
UID:38514-1666260000-1677434400@artequeacontece.com.br
SUMMARY:Sonia Guggisberg na USP Maria Antonia
DESCRIPTION:Na mostra “Silêncio”\, a artista suíço-brasileira Sonia Guggisberg apresenta sua pesquisa de mais de seis anos sobre refúgio e diásporas humanas\, com fotografias em diferentes suportes\, vídeos e registros sonoros captados durante suas viagens. Sua pesquisa começa em 2016\, na Grécia e segue por Malta e Lampedusa\, na Itália\, locais onde se concentrou o maior trânsito refugiados sírios e africanos rumo à Europa. “São pessoas sem passado e sem futuro\, que vivem totalmente à margem\, sem saber o que irá acontecer no próximo minuto”\, conta Guggisberg\, que já apresentou outros recortes dessa pesquisa como artista convidada no Festival Internacional de Fotografia Paraty em Foco e em Atenas\, na Grécia. É um processo de testemunhar vidas anônimas\, a partir da documentação do real\, iluminando questões latentes na atualidade por meio de intervenções nas fotografias\, suprimindo e reposicionando trechos das imagens. A mostra propõe uma análise sobre as identidades e subjetividades obrigadas a se redesenhar a partir da mudança forçada de seus países. A artista intervêm nas imagens captadas para pensar no silenciamento das trajetórias transformadas radicalmente na crise humanitária que se vê nos campos de refugiados: mulheres\, homens\, crianças\, jovens e idosos a espera de um futuro incerto. “A obra de Sonia Guggisberg deriva das suas experiências em diferentes espaços geográfico-políticos. Seu trabalho\, multimídia e imersivo\, provoca-nos pelos sentidos\, fazendo com que fiquemos atônitos diante das realidades com as quais nos envolve. Experimentar essas obras nos deixa reflexivos\, porém mobilizados perante as imagens. Nesta exposição\, a partir de instalações imersivas\, paramos diante dos vestígios de migrações contemporâneas características de um momento de insegurança e violência sociais globais”\, diz Ana Avelar\, curadora da exposição. Essa narrativa de imagens e sons aponta para o grande desafio de construir um novo olhar\, abrindo outras perspectivas para um mundo em constante transformação. Os registros audiovisuais da artista nos remetem a histórias de pessoas que desde sempre enfrentam o desconhecido.
URL:https://artequeacontece.com.br/evento/sonia-guggisberg-na-usp-maria-antonia/
LOCATION:USP Maria Antonia\, 258/294 R. Maria Antônia Vila Buarque\, São Paulo\, São Paulo\, Brasil
CATEGORIES:São Paulo
ATTACH;FMTTYPE=image/jpeg:https://artequeacontece.com.br/wp-content/uploads/2023/02/68625610-48237597.jpeg
END:VEVENT
END:VCALENDAR