BEGIN:VCALENDAR
VERSION:2.0
PRODID:-//Arte Que Acontece - ECPv6.15.20//NONSGML v1.0//EN
CALSCALE:GREGORIAN
METHOD:PUBLISH
X-WR-CALNAME:Arte Que Acontece
X-ORIGINAL-URL:https://artequeacontece.com.br
X-WR-CALDESC:Eventos para Arte Que Acontece
REFRESH-INTERVAL;VALUE=DURATION:PT1H
X-Robots-Tag:noindex
X-PUBLISHED-TTL:PT1H
BEGIN:VTIMEZONE
TZID:America/Sao_Paulo
BEGIN:STANDARD
TZOFFSETFROM:-0300
TZOFFSETTO:-0300
TZNAME:-03
DTSTART:20230101T000000
END:STANDARD
END:VTIMEZONE
BEGIN:VEVENT
DTSTART;TZID=America/Sao_Paulo:20240413T100000
DTEND;TZID=America/Sao_Paulo:20240902T170000
DTSTAMP:20260422T054752
CREATED:20240606T163445Z
LAST-MODIFIED:20240606T163447Z
UID:49098-1713002400-1725296400@artequeacontece.com.br
SUMMARY:"Songs for Modern Japan" no Museum of Fine Arts Boston
DESCRIPTION:Tomita Morizō\, Literary Ditty\, Beautiful Woman (detalhe)\, da série Partituras de Harmônica da Shōchiku\, publicada pela Shōchiku Film Music Score Publishing\, 1930. Doação de Robert e Mary Levenson.\n\n\n\nO Japão experimentou uma onda de mudanças entre 1900 e 1950. No início do século\, a notação musical ocidental havia se tornado um símbolo de modernidade\, ajudando a espalhar o jazz e a Broadway para cafés e boates de Tóquio\, além de promover a música cinematográfica japonesa tanto dentro quanto fora do Japão. O crescente modernismo\, consumismo e influência do Ocidente vieram acompanhados de uma revolução no som e nas imagens produzidas em massa por filmes e rádio. \n\n\n\nSongs for Modern Japan: Popular Music and Graphic Design\, 1900–1950 explora como as capas de partituras fornecem uma janela para a sociedade e cultura japonesas durante este período de imensa transformação. Os visitantes descobrem como os principais designers gráficos japoneses da época interpretaram os movimentos artísticos internacionais modernistas\, como o Art Nouveau e o Art Deco\, e como a demanda por partituras militares com imagens de propaganda cresceu nas décadas de 1920 e 1930\, refletindo as aspirações imperialistas do país. Ao investigar estilos de design gráfico\, tipografia arrojada\, gêneros musicais e o ambiente social no Japão\, os visitantes obtêm uma visão de como o design e a música que celebravam a modernidade e o globalismo deram lugar ao endosso do nacionalismo. \n\n\n\nCerca de 100 capas de partituras da coleção de Mary e Robert Levenson—juntamente com pinturas\, fotografias\, têxteis\, música\, trechos de filmes e instrumentos musicais do período—capturam os efeitos dinâmicos do intercâmbio artístico internacional e as profundas mudanças sociais em um Japão em processo de globalização. A exposição apresenta uma oportunidade de traçar paralelos entre este momento crucial na história do Japão e os dias de hoje.
URL:https://artequeacontece.com.br/evento/songs-for-modern-japan-no-museum-of-fine-arts-boston/
LOCATION:MFA Boston\, 465 Huntington Ave\, Boston\, Massachusetts\, Estados Unidos
CATEGORIES:Boston
ATTACH;FMTTYPE=image/jpeg:https://artequeacontece.com.br/wp-content/uploads/2024/06/SC462653_.jpg
END:VEVENT
END:VCALENDAR