BEGIN:VCALENDAR
VERSION:2.0
PRODID:-//Arte Que Acontece - ECPv6.15.20//NONSGML v1.0//EN
CALSCALE:GREGORIAN
METHOD:PUBLISH
X-WR-CALNAME:Arte Que Acontece
X-ORIGINAL-URL:https://artequeacontece.com.br
X-WR-CALDESC:Eventos para Arte Que Acontece
REFRESH-INTERVAL;VALUE=DURATION:PT1H
X-Robots-Tag:noindex
X-PUBLISHED-TTL:PT1H
BEGIN:VTIMEZONE
TZID:America/Sao_Paulo
BEGIN:STANDARD
TZOFFSETFROM:-0300
TZOFFSETTO:-0300
TZNAME:-03
DTSTART:20230101T000000
END:STANDARD
END:VTIMEZONE
BEGIN:VEVENT
DTSTART;TZID=America/Sao_Paulo:20241029T100000
DTEND;TZID=America/Sao_Paulo:20241130T170000
DTSTAMP:20260422T053353
CREATED:20241029T200536Z
LAST-MODIFIED:20241029T200536Z
UID:58883-1730196000-1732986000@artequeacontece.com.br
SUMMARY:"Sobre Formas" de Ruy Teixeira na Herança Cultural
DESCRIPTION:Ruy Teixeira. Imagem: Divulgação\n\n\n\n\nDia 29 de outubro\, a Herança Cultural apresenta a exposição individual de Ruy Teixeira\, “Sobre formas”. São 39 imagens retiradas do vasto repertório do fotógrafo que revelam os traços essenciais de obras de arte\, design e arquitetura registradas ao longo de sua carreira. O conjunto de fotografias despem os significantes de seus significados–sejam eles históricos\, estilísticos ou funcionais–para chegar ao mais puro signo e furar as coordenadas de espaço e tempo. Por meio de uma síntese gráfica dos elementos capturados\, as lentes de Teixeira alcançam com maestria uma abstração “Sobre formas”. \nTexto de Marina Dias Teixeira \n“Sobre Formas” é uma exposição que foca em formas arquitetônicas e artísticas\, buscando o traço puro destas obras. Uma passagem pelo novo e o antigo\, o construído e o destruído. A história e o conceito\, o caminho da luz\, o cheio e o vazio. Imagens que se conferenciam na própria essência do objeto. O tamanho único de 90cm x 60cm são as sílabas das 8 frases que permeiam as 4 paredes duplas.” Ruy Teixeira
URL:https://artequeacontece.com.br/evento/sobre-formas-de-ruy-teixeira-na-heranca-cultural/
LOCATION:Herança Cultural – Design Art Gallery\, Rua do Curtume\, 274 - Lapa de Baixo\, São Paulo\, SP\, Brasil
CATEGORIES:São Paulo
ATTACH;FMTTYPE=image/jpeg:https://artequeacontece.com.br/wp-content/uploads/2024/10/2YfpP8-N-1-1.jpeg
END:VEVENT
END:VCALENDAR