BEGIN:VCALENDAR
VERSION:2.0
PRODID:-//Arte Que Acontece - ECPv6.15.20//NONSGML v1.0//EN
CALSCALE:GREGORIAN
METHOD:PUBLISH
X-WR-CALNAME:Arte Que Acontece
X-ORIGINAL-URL:https://artequeacontece.com.br
X-WR-CALDESC:Eventos para Arte Que Acontece
REFRESH-INTERVAL;VALUE=DURATION:PT1H
X-Robots-Tag:noindex
X-PUBLISHED-TTL:PT1H
BEGIN:VTIMEZONE
TZID:America/Sao_Paulo
BEGIN:STANDARD
TZOFFSETFROM:-0300
TZOFFSETTO:-0300
TZNAME:-03
DTSTART:20230101T000000
END:STANDARD
END:VTIMEZONE
BEGIN:VEVENT
DTSTART;TZID=America/Sao_Paulo:20240926T100000
DTEND;TZID=America/Sao_Paulo:20250223T170000
DTSTAMP:20260422T084602
CREATED:20241010T152447Z
LAST-MODIFIED:20241010T152657Z
UID:58290-1727344800-1740330000@artequeacontece.com.br
SUMMARY:"Silk Roads" no British Museum
DESCRIPTION:Imagem: Divulgação\n\n\n\n\nCaravanas de camelos atravessando dunas do deserto\, mercadores negociando sedas e especiarias em bazares – essas são as imagens que costumamos associar às Rotas da Seda. No entanto\, a realidade é muito mais complexa. \nEm vez de uma única rota comercial de Leste a Oeste\, as Rotas da Seda eram formadas por redes sobrepostas que ligavam comunidades na Ásia\, África e Europa\, desde o Leste Asiático até a Grã-Bretanha\, e da Escandinávia a Madagascar. Esta exposição significativa explora como as jornadas de pessoas\, objetos e ideias ao longo das Rotas da Seda moldaram culturas e histórias. \nAs Rotas da Seda foram usadas por milênios\, mas esta exibição visualmente impressionante foca em um período definidor de sua história\, aproximadamente entre 500 e 1000 d.C. Nesse período\, ocorreram avanços significativos na conectividade e o surgimento de religiões universais que uniram comunidades através de continentes. \nTrabalhando com 29 parceiros nacionais e internacionais\, a exposição apresenta objetos de diversas regiões e culturas\, lado a lado com itens da coleção do Museu Britânico. Essa é uma oportunidade única de ver objetos provenientes de toda a extensão das Rotas da Seda. Desde cerâmicas chinesas da dinastia Tang destinadas a portos do Oriente Médio até granadas indianas encontradas em Suffolk\, esses itens revelam o alcance impressionante dessas redes. \nPeças destacadas do Uzbequistão e do Tajiquistão\, nunca vistas antes no Reino Unido\, também ressaltam a importância da Ásia Central nessa narrativa que abrange continentes. \nVocê conhecerá figuras cujas histórias se entrelaçam com as Rotas da Seda\, como Willibald\, um astuto contrabandista de bálsamo da Inglaterra\, e uma lendária princesa chinesa que compartilhou os segredos da criação de seda com seu novo reino. Cruzando desertos\, montanhas\, rios e mares\, as Rotas da Seda contam uma história de conexão entre culturas e continentes\, séculos antes da formação do mundo globalizado que conhecemos hoje.
URL:https://artequeacontece.com.br/evento/silk-roads-no-british-museum/
LOCATION:British Museum\, Great Russell St\, Londres\, Reino unido
CATEGORIES:Londres
ATTACH;FMTTYPE=image/jpeg:https://artequeacontece.com.br/wp-content/uploads/2024/10/Silk-Roads-2000-1159-1-1.jpg
END:VEVENT
END:VCALENDAR