BEGIN:VCALENDAR
VERSION:2.0
PRODID:-//Arte Que Acontece - ECPv6.15.20//NONSGML v1.0//EN
CALSCALE:GREGORIAN
METHOD:PUBLISH
X-WR-CALNAME:Arte Que Acontece
X-ORIGINAL-URL:https://artequeacontece.com.br
X-WR-CALDESC:Eventos para Arte Que Acontece
REFRESH-INTERVAL;VALUE=DURATION:PT1H
X-Robots-Tag:noindex
X-PUBLISHED-TTL:PT1H
BEGIN:VTIMEZONE
TZID:America/Sao_Paulo
BEGIN:STANDARD
TZOFFSETFROM:-0300
TZOFFSETTO:-0300
TZNAME:-03
DTSTART:20220101T000000
END:STANDARD
END:VTIMEZONE
BEGIN:VEVENT
DTSTART;TZID=America/Sao_Paulo:20230420T110000
DTEND;TZID=America/Sao_Paulo:20230603T190000
DTSTAMP:20260419T142538
CREATED:20230505T142758Z
LAST-MODIFIED:20230505T184049Z
UID:40359-1681988400-1685818800@artequeacontece.com.br
SUMMARY:Sherrie Levine na David Zwirner
DESCRIPTION:A David Zwirner anuncia uma exposição de trabalhos novos e recentes da artista americana Sherrie Levine na galeria em Paris. Apresentando novas séries de pinturas e fotografias\, bem como uma seleção de esculturas\, esta exposição destaca vários trabalhos que são centrais para a prática de Levine\, e que se engajam distintamente em sua investigação contínua sobre noções de autoria\, originalidade e autenticidade. Esta é a quinta apresentação individual da artista com a David Zwirner desde que ingressou na galeria em 2015 e sua primeira em Paris em mais de trinta anos. Uma exposição simultânea do trabalho de Levine está em exibição na East 69th Street\, sede da galeria em Nova York. \n\n\n\nLevine ganhou destaque como membro da Pictures Generation\, um grupo de artistas sediado em Nova York no final dos anos 1970 e 1980 cujo trabalho examinava as estruturas de significado subjacentes às imagens de circulação em massa e\, em muitos casos\, apropriavam-se diretamente dessas imagens a fim de atribuí-las a um novo significado. Desde então\, Levine criou um corpo singular e complexo de trabalhos em diversas mídias que\, frequentemente\, reproduzem explicitamente obras de arte e temas do cânone histórico da arte ocidental\, bem como de culturas não ocidentais.
URL:https://artequeacontece.com.br/evento/sherrie-levine-na-david-zwirner/
LOCATION:David Zwirner\, 108 Rue Vieille-du-Temple Paris\, Paris\, França
CATEGORIES:Paris
ATTACH;FMTTYPE=image/jpeg:https://artequeacontece.com.br/wp-content/uploads/2023/05/levsh0451_install_rendering-1-1.jpg
END:VEVENT
END:VCALENDAR