BEGIN:VCALENDAR
VERSION:2.0
PRODID:-//Arte Que Acontece - ECPv6.15.20//NONSGML v1.0//EN
CALSCALE:GREGORIAN
METHOD:PUBLISH
X-WR-CALNAME:Arte Que Acontece
X-ORIGINAL-URL:https://artequeacontece.com.br
X-WR-CALDESC:Eventos para Arte Que Acontece
REFRESH-INTERVAL;VALUE=DURATION:PT1H
X-Robots-Tag:noindex
X-PUBLISHED-TTL:PT1H
BEGIN:VTIMEZONE
TZID:America/Sao_Paulo
BEGIN:STANDARD
TZOFFSETFROM:-0300
TZOFFSETTO:-0300
TZNAME:-03
DTSTART:20240101T000000
END:STANDARD
END:VTIMEZONE
BEGIN:VEVENT
DTSTART;TZID=America/Sao_Paulo:20250614T110000
DTEND;TZID=America/Sao_Paulo:20250719T190000
DTSTAMP:20260422T060303
CREATED:20250630T181947Z
LAST-MODIFIED:20250630T181947Z
UID:63463-1749898800-1752951600@artequeacontece.com.br
SUMMARY:"Ser Ilha" de Felipe Góes na Zipper Galeria
DESCRIPTION:Felipe Góes\, “Pintura 417”\, 2021. Cortesia Zipper Galeria\nA Zipper Galeria apresenta “Ser Ilha”\, exposição individual de Felipe Góes. A mostra reúne um novo conjunto de pinturas que evocam paisagens em constante formação\, erosão e reinvenção. \nO ponto de partida conceitual da exposição emerge do encontro entre a obra do poeta Manoel de Barros (1916-2014) e o fenômeno natural que originou Surtsey — ilha formada no Atlântico sul da Islândia em decorrência de uma erupção vulcânica entre 1963 e 1967.  \nDesde a erupção\, Surtsey vem sendo moldada pela erosão dos ventos e do mar\, que já reduziu a ilha a quase metade de suas dimensões\, em um ciclo contínuo de feitura e desfazimento. Esse processo ressoa diretamente no gesto pictórico de Góes: camadas sucessivas de tinta cobrem parcialmente tentativas anteriores de forma\, revelando e ocultando memórias\, fantasias e construções imagéticas. \nNesse sentido\, a exposição dialoga com a poética de Manoel de Barros\, poeta brasileiro do século XX cuja obra se debruça sobre a reinvenção do olhar para o mundo ordinário. Inspirado pelo Pantanal\, Barros transformava coisas mínimas em matéria filosófica\, celebrando o “desimportante” com lirismo e humor. Seus termos — como “ser”\, “transver” e “desformar” — oferecem chaves sensíveis para pensar a lógica interna das pinturas de Góes\, marcadas por camadas\, apagamentos e reconstruções. \nEm suas telas\, Góes sobrepõe camadas de tinta para criar imagens que não se fixam completamente. Suas pinturas evocam formas que emergem e se desfazem\, como se estivessem em fluxo\, como se fossem fragmentos de um mundo em lenta deriva. \nO texto curatorial de Renata Rocco traz leituras que ampliam os sentidos da obra\, articulando questões telúricas e poéticas. “Ser Ilha” propõe uma experiência em que a paisagem se torna metáfora de um estado de transição — entre o visível e o intuído\, entre o gesto e o apagamento. Assim\, o processo pictórico espelha os próprios ciclos de criação\, transformação e desaparecimento do mundo natural.
URL:https://artequeacontece.com.br/evento/ser-ilha-de-felipe-goes-na-zipper-galeria/
LOCATION:Zipper Galeria\, R. Estados Unidos\, 1494 - Jardim América\, São Paulo\, SP\, Brasil
CATEGORIES:São Paulo
ATTACH;FMTTYPE=image/jpeg:https://artequeacontece.com.br/wp-content/uploads/2025/06/11806-1.jpg
END:VEVENT
END:VCALENDAR