BEGIN:VCALENDAR
VERSION:2.0
PRODID:-//Arte Que Acontece - ECPv6.15.20//NONSGML v1.0//EN
CALSCALE:GREGORIAN
METHOD:PUBLISH
X-WR-CALNAME:Arte Que Acontece
X-ORIGINAL-URL:https://artequeacontece.com.br
X-WR-CALDESC:Eventos para Arte Que Acontece
REFRESH-INTERVAL;VALUE=DURATION:PT1H
X-Robots-Tag:noindex
X-PUBLISHED-TTL:PT1H
BEGIN:VTIMEZONE
TZID:America/Sao_Paulo
BEGIN:STANDARD
TZOFFSETFROM:-0300
TZOFFSETTO:-0300
TZNAME:-03
DTSTART:20230101T000000
END:STANDARD
END:VTIMEZONE
BEGIN:VEVENT
DTSTART;TZID=America/Sao_Paulo:20240720T100000
DTEND;TZID=America/Sao_Paulo:20240817T180000
DTSTAMP:20260422T160148
CREATED:20240716T174231Z
LAST-MODIFIED:20240716T175532Z
UID:49791-1721469600-1723917600@artequeacontece.com.br
SUMMARY:"Saúva" de Thiago Molon no Centro Municipal Hélio Oiticica
DESCRIPTION:Thiago Molon\, O Pé de Romã que a Formiga Cortou (detalhe)\, 2024\n\n\n\nThiago Molon inaugura sua primeira exposição individual\, intitulada Saúva\, no sábado\, 20 de julho\, às 14h\, no Centro Municipal de Artes Hélio Oiticica\, na região central do Rio de Janeiro. \n\n\n\nSaúvas são formigas que cortam folhas em pedaços e carregam para o formigueiro\, onde criam um fungo\, que constitui o seu alimento principal. \n\n\n\nEm uma analogia da saúva com sua prática artística\, Molon conta que colhe da rua a informação visual que\, no ateliê\, se transforma em pintura\, escultura e instalação\, seguindo uma disciplina diária\, no modelo do “trabalho de formiguinha”. \n\n\n\nThiago Molon [1990–] nasceu e foi criado no Vidigal\, comunidade da zona sul do Rio de Janeiro. É sua vivência na favela que abastece seu repertório visual\, ligado ao comércio informal e à natureza de fundo de quintal. A partir destes elementos\, o artista tece sua identidade estética em imagens\, suportes e interpretação de aspectos socioculturais.
URL:https://artequeacontece.com.br/evento/sauva-de-thiago-molon-no-centro-municipal-helio-oiticica/
LOCATION:Centro Municipal Hélio Oiticica\, Rua Luís de Camões\, 68 - Praça Tiradentes - Centro\, Rio de Janeiro\, RJ\, Brasil
CATEGORIES:Rio de Janeiro
ATTACH;FMTTYPE=image/jpeg:https://artequeacontece.com.br/wp-content/uploads/2024/07/2130-Thiago-Molon-O-Pe-de-Roma-que-a-Formiga-Cortou-2024-170-x-210cm.jpg
END:VEVENT
END:VCALENDAR