BEGIN:VCALENDAR
VERSION:2.0
PRODID:-//Arte Que Acontece - ECPv6.15.20//NONSGML v1.0//EN
CALSCALE:GREGORIAN
METHOD:PUBLISH
X-WR-CALNAME:Arte Que Acontece
X-ORIGINAL-URL:https://artequeacontece.com.br
X-WR-CALDESC:Eventos para Arte Que Acontece
REFRESH-INTERVAL;VALUE=DURATION:PT1H
X-Robots-Tag:noindex
X-PUBLISHED-TTL:PT1H
BEGIN:VTIMEZONE
TZID:America/Sao_Paulo
BEGIN:STANDARD
TZOFFSETFROM:-0300
TZOFFSETTO:-0300
TZNAME:-03
DTSTART:20240101T000000
END:STANDARD
END:VTIMEZONE
BEGIN:VEVENT
DTSTART;TZID=America/Sao_Paulo:20250923T093000
DTEND;TZID=America/Sao_Paulo:20260111T180000
DTSTAMP:20260422T070925
CREATED:20251007T174717Z
LAST-MODIFIED:20251007T174717Z
UID:65440-1758619800-1768154400@artequeacontece.com.br
SUMMARY:"Sargent Dazzling Paris" no Musée d'Orsay
DESCRIPTION:John Singer Sargent. Portrait of Madame X. 1883-1884. Cortesia do Museu Metropolitano de Art – MET.\nJohn Singer Sargent (Florença\, 1856 – Londres\, 1925)\, juntamente com James McNeill Whistler\, foi o artista americano mais famoso de sua geração e certamente um dos maiores pintores do século XIX e início do século XX. Reverenciado nos Estados Unidos (seu Retrato de Madame X é considerado a Mona Lisa da coleção de arte americana conservada pelo Metropolitan Museum of Art de Nova York)\, ele também é famoso no Reino Unido\, onde passou a maior parte de sua carreira. Na França\, no entanto\, seu nome e obra permanecem em grande parte desconhecidos\, uma situação que a exposição no Musée d’Orsay\, no outono de 2025\, espera mudar. \nNenhuma exposição monográfica havia sido dedicada a John Singer Sargent na França. No entanto\, foi na França que o jovem pintor recebeu sua formação\, desenvolvendo seu estilo e sua rede de artistas. Foi lá que ele também desfrutou de seus primeiros sucessos e criou várias de suas obras-primas\, incluindo Dr. Pozzi em Casa (1881\, Hammer Museum\, Los Angeles) e As Filhas de Edward Darley Boit (1882\, Museu de Belas Artes\, Boston). Concebida em parceria com o Metropolitan Museum of Art de Nova York\, a exposição “Sargent. Paris Deslumbrante” visa apresentar o pintor a um público amplo. A exposição reúne mais de 90 obras de John Singer Sargent\, incluindo algumas nunca exibidas na França. Ela traça a ascensão meteórica do jovem artista\, que chegou a Paris em 1874\, aos dezoito anos\, para estudar com Carolus-Duran. A exposição abrange sua carreira até meados da década de 1880\, quando se mudou para Londres após o escândalo causado por seu retrato de Madame Gautreau (Madame X) no Salon. \n  \n  \n  \n  \n  \n  \n 
URL:https://artequeacontece.com.br/evento/sargent-dazzling-paris-no-musee-dorsay/
LOCATION:Musée d’Orsay\, 1 Rue de la Légion d'Honneur Paris\, Paris\, Paris\, França
CATEGORIES:Paris
ATTACH;FMTTYPE=image/avif:https://artequeacontece.com.br/wp-content/uploads/2025/10/sargent-madame-x.avif
END:VEVENT
END:VCALENDAR