BEGIN:VCALENDAR
VERSION:2.0
PRODID:-//Arte Que Acontece - ECPv6.15.20//NONSGML v1.0//EN
CALSCALE:GREGORIAN
METHOD:PUBLISH
X-WR-CALNAME:Arte Que Acontece
X-ORIGINAL-URL:https://artequeacontece.com.br
X-WR-CALDESC:Eventos para Arte Que Acontece
REFRESH-INTERVAL;VALUE=DURATION:PT1H
X-Robots-Tag:noindex
X-PUBLISHED-TTL:PT1H
BEGIN:VTIMEZONE
TZID:America/Sao_Paulo
BEGIN:STANDARD
TZOFFSETFROM:-0300
TZOFFSETTO:-0300
TZNAME:-03
DTSTART:20230101T000000
END:STANDARD
END:VTIMEZONE
BEGIN:VEVENT
DTSTART;TZID=America/Sao_Paulo:20240119T100000
DTEND;TZID=America/Sao_Paulo:20240222T190000
DTSTAMP:20260419T103234
CREATED:20240124T181143Z
LAST-MODIFIED:20240124T181148Z
UID:45802-1705658400-1708628400@artequeacontece.com.br
SUMMARY:"São Paulo – 470 Anos" na Imã Foto Galeria
DESCRIPTION:Existe muito amor em São Paulo\, afirma a fotógrafa Angela Rezé\, que comanda a exposição São Paulo – 470 Anos\, em cartaz na Imã Foto Galeria até 22 de fevereiro\, uma celebração ao aniversário da cidade que cresce\, renasce e se transforma todos os dias. Parte de um projeto pessoal de Angela\, a mostra traz registros de seu rico acervo para contar um capítulo breve de uma história imagética que nunca vai ter um ponto final. \n\n\n\n“O trabalho nunca tem fim\, o único desafio é fugir do clichê\, sempre em busca de ângulos\, contrastes e efeitos de luz capazes de entregar a beleza\, a potência e a alma da metrópole\, revelando a beleza dos contrastes\, da arquitetura\, da urbanidade inquieta”\, conta Angela\, que\, ao lado de nomes como Antônio Gaudério\, Egberto Nogueira\, João Ripper\, Sergio Matta e Walter Firmo\, entre outros fotógrafos representados pela galeria\, tece na mostra uma narrativa visual da cidade de São Paulo. \n\n\n\nA exposição tem o apoio da gráfica e editora Ativaonline\, que\, para celebrar a cidade que completa 470 anos em 25 de janeiro e declarar este amor\, selecionou algumas das fotografias de Angela para compor o seu calendário 2024 e presenteará os visitantes\, durante o mês de janeiro\, com um exemplar com lindas imagens de São Paulo. Todas as fotos expostas\, impressas em fine-art e emolduradas\, estão à venda com valores especiais a partir de R$1.000\,00 e impressões em tamanhos menores a partir de R$80\,00. \n\n\n\nA Imã Foto Galeria fica na fica na Rua Fradique Coutinho 1239\, na Vila Madalena e a exposição pode ser vista de segunda a sábado\, das 14h às 20h\, e aos domingos apenas visitas agendadas. A fotógrafa Angela Rezé estará presente na exposição no dia 25 de janeiro\, das 10h30 às 20h30\, recebendo convidados e visitantes e comemorando seu próprio aniversário\, que é dia 26. \n\n\n\nParabéns\, São Paulo!
URL:https://artequeacontece.com.br/evento/sao-paulo-470-anos-na-ima-foto-galeria/
LOCATION:Imã Foto Galeria\, Rua Fradique Coutinho\, 1239 - Vila Madalena\, São Paulo\, SP\, Brasil
CATEGORIES:São Paulo
ATTACH;FMTTYPE=image/jpeg:https://artequeacontece.com.br/wp-content/uploads/2024/01/MUSEU-DA-LINGUA-ESTACAO-DA-LUZ-SP.jpg
END:VEVENT
END:VCALENDAR