BEGIN:VCALENDAR
VERSION:2.0
PRODID:-//Arte Que Acontece - ECPv6.15.20//NONSGML v1.0//EN
CALSCALE:GREGORIAN
METHOD:PUBLISH
X-WR-CALNAME:Arte Que Acontece
X-ORIGINAL-URL:https://artequeacontece.com.br
X-WR-CALDESC:Eventos para Arte Que Acontece
REFRESH-INTERVAL;VALUE=DURATION:PT1H
X-Robots-Tag:noindex
X-PUBLISHED-TTL:PT1H
BEGIN:VTIMEZONE
TZID:America/Sao_Paulo
BEGIN:STANDARD
TZOFFSETFROM:-0300
TZOFFSETTO:-0300
TZNAME:-03
DTSTART:20230101T000000
END:STANDARD
END:VTIMEZONE
BEGIN:VEVENT
DTSTART;TZID=America/Sao_Paulo:20241213T100000
DTEND;TZID=America/Sao_Paulo:20250126T180000
DTSTAMP:20260422T054425
CREATED:20241212T175610Z
LAST-MODIFIED:20241212T175610Z
UID:60306-1734084000-1737914400@artequeacontece.com.br
SUMMARY:Sala de Vídeo: Manauara Clandestina no MASP
DESCRIPTION:Manauara Clandestina\, “Building” (frame do vídeo)\, 2021-2024. Cortesia da artista\n\n\n\n\nO MASP – Museu de Arte de São Paulo Assis Chateaubriand apresenta a Sala de Vídeo: Manauara Clandestina com cinco vídeos\, entre os quais dois foram recentemente exibidos na 60ª Bienal de Veneza. A instalação audiovisual da artista Manauara Clandestina (Manaus\, AM\, 1992)\, em cartaz a partir do dia 13 de dezembro\, transita por temas como a identidade travesti\, relações de intimidade\, moda e fluxos migratórios.  \nA artista\, que expressa a origem amazonense e a vivência clandestina em seu próprio nome\, enaltece em seus trabalhos a criatividade da comunidade travesti do Sul Global\, rompendo com a normatividade que\, frequentemente\, restringe o grupo à representação de suas vulnerabilidades. “A travesti tem tudo a ver com a moda\, com o cinema. Desejo fazer mais cinema e ver mais travestis donas de si em seus papéis\, não apenas como atrizes\, mas também como diretoras\, fotógrafas\, que criam nosso imaginário sobre o Brasil e nosso cotidiano”\, afirma Manauara. \nOs diferentes trabalhos apresentados na sala de vídeo exploram o conceito de upcycling. Embora originado na moda como uma resposta ao fast fashion\, o upcycling – processo de reaproveitamento de objetos\, peças de roupa e outros materiais para criar algo novo – está presente na obra de Manauara tanto nas vestimentas quanto na edição de seus vídeos\, os quais combinam imagens captadas pela artista com outras apropriadas de diferentes lugares. Trechos icônicos\, como o registro do homem pisando na Lua pela primeira vez\, são justapostos a cenas cotidianas da artista\, criando um diálogo visual que reinventa o imaginário a respeito de travestis na esfera social.  \nCom curadoria de Leandro Muniz\, curador assistente\, MASP\, a mostra reúne trabalhos que tratam de questões como a biografia da artista\, a travestilidade\, a crise climática\, a condição de vida dos trabalhadores braçais\, as religiões\, as desigualdades econômicas\, a violência\, a intimidade e o afeto\, entre outras\, propondo conexões entre esses diversos temas de forma narrativa e\, ao mesmo tempo\, fragmentada. \nO vídeo Corredor 1 (2020) conta com a participação do irmão da artista e reflete sobre o espaço de moradia no contexto da migração. A obra revela uma “casa-cápsula”\, isto é\, um ambiente de convívio restrito\, mais próximo de um dormitório que de uma casa\, concebido para pessoas com jornadas de trabalho intensas\, que dispõem de pouco tempo para usufruir do lar. \nTrazendo à tona a realidade de trabalhadores uniformizados no espaço urbano\, Reposição 2 e Reposição 3 (2020)\, são vídeos captados com a câmera de um celular que registram o cotidiano urbano da cidade de São Paulo.  \nBuilding (2021–2024) marca a primeira residência artística de Manauara fora do Brasil\, realizada na Delfina Foundation\, em Londres. No filme\, a artista reconcilia-se com seu pai ao retratar sua rotina de trabalho como pastor missionário e suas peregrinações. O vídeo mistura depoimentos pessoais e imagens de um prédio em colapso\, sugerindo tanto a ideia de “edifício”\, proposta pelo título em inglês\, quanto a de uma formação em processo\, posto que também é o verbo “construir” no gerúndio. \nEm Migranta (2021)\, Manauara escreveu em uniformes de trabalho fluorescentes a expressão “soy bienvenida” e registrou imagens de amigos desfilando com a vestimenta por Barcelona. A obra traz ao público a presença de corpos dissidentes e imigrantes que sofrem violências no espaço público e em países estrangeiros. \nManauara Clandestina encerra a programação anual da sala de vídeo no contexto do ciclo de Histórias LGBTQIA+ no MASP. Ao longo do ano\, além das obras da artista\, foram apresentados trabalhos de Masi Mamani/Bartolina Xixa\, Tourmaline\, Ventura Profana e Kang Seung Lee.
URL:https://artequeacontece.com.br/evento/sala-de-video-manauara-clandestina-no-masp/
LOCATION:MASP – Museu de Arte de São Paulo Assis Chateaubriand\, Avenida Paulista\, 1578 - Bela Vista\, São Paulo\, SP\, Brasil
CATEGORIES:São Paulo
ATTACH;FMTTYPE=image/png:https://artequeacontece.com.br/wp-content/uploads/2024/12/Manauara-Clandestina-Building-frame-do-video-2021-2024.-Cortesia-da-artista-1.png
END:VEVENT
END:VCALENDAR