BEGIN:VCALENDAR
VERSION:2.0
PRODID:-//Arte Que Acontece - ECPv6.15.20//NONSGML v1.0//EN
CALSCALE:GREGORIAN
METHOD:PUBLISH
X-WR-CALNAME:Arte Que Acontece
X-ORIGINAL-URL:https://artequeacontece.com.br
X-WR-CALDESC:Eventos para Arte Que Acontece
REFRESH-INTERVAL;VALUE=DURATION:PT1H
X-Robots-Tag:noindex
X-PUBLISHED-TTL:PT1H
BEGIN:VTIMEZONE
TZID:America/Sao_Paulo
BEGIN:STANDARD
TZOFFSETFROM:-0300
TZOFFSETTO:-0300
TZNAME:-03
DTSTART:20220101T000000
END:STANDARD
END:VTIMEZONE
BEGIN:VEVENT
DTSTART;TZID=America/Sao_Paulo:20230916T103000
DTEND;TZID=America/Sao_Paulo:20240115T180000
DTSTAMP:20260419T122450
CREATED:20231016T141825Z
LAST-MODIFIED:20231016T141833Z
UID:44355-1694860200-1705341600@artequeacontece.com.br
SUMMARY:"Ruth Asawa Through Line" no Whitney Museum
DESCRIPTION:Para Ruth Asawa (1926–2013)\, o desenho serviu como um centro de gravidade – a atividade que ela descreveu como seu “maior prazer e o mais difícil”. Embora agora amplamente reconhecida por suas esculturas em arame\, Asawa desenhava diariamente. Sua abordagem exploratória de materiais\, linha\, superfície e espaço resultou em uma impressionante variedade de desenhos que falam de sua curiosidade brincalhona e destreza técnica\, bem como de seu interesse nas possibilidades estéticas do cotidiano. \n\n\n\nDesde sua criação na fazenda de sua família no sul da Califórnia\, onde Asawa desenhava de forma sonhadora traços ao longo das estradas de terra entre as tarefas diárias e frequentava aulas de caligrafia semanais\, o desenho se tornou a base de sua vida criativa. Quando sua família foi forçada a deixar sua casa em 1942 como parte das políticas de isolamento do governo dos EUA em relação aos japoneses-americanos durante a Segunda Guerra Mundial\, a adolescente Asawa encontrou salvação nos artistas que se ensinavam e apoiavam nos campos de internamento. Nos anos seguintes\, como estudante no progressista Black Mountain College e ao longo de seis décadas em São Francisco\, Asawa manteve a crença no poder da arte para construir um futuro melhor. Essa ética orientou seu trabalho como educadora\, líder comunitária e artista. \n\n\n\nEsta exposição destaca o desenho como fio condutor no trabalho de Asawa. Organizada tematicamente e inspirada em sua abordagem curiosa para a criação artística\, a apresentação compreende mais de cem obras\, muitas das quais nunca foram expostas. Juntas\, elas capturam a energia inesgotável e o espírito generoso de Asawa\, que acreditava que “a arte não é uma série de técnicas\, mas uma abordagem para aprender\, questionar e compartilhar”.
URL:https://artequeacontece.com.br/evento/ruth-asawa-through-line-no-whitney-museum/
LOCATION:Whitney Museum of American Art\, 99 Gansevoort St Manhattan\, Nova York\, Nova York\, Estados Unidos
CATEGORIES:Nova York
ATTACH;FMTTYPE=image/jpeg:https://artequeacontece.com.br/wp-content/uploads/2023/10/large_RS74781_WC.252_TIFF_JPAONESSA_detail_web-1-1.jpg
END:VEVENT
END:VCALENDAR