BEGIN:VCALENDAR
VERSION:2.0
PRODID:-//Arte Que Acontece - ECPv6.15.20//NONSGML v1.0//EN
CALSCALE:GREGORIAN
METHOD:PUBLISH
X-WR-CALNAME:Arte Que Acontece
X-ORIGINAL-URL:https://artequeacontece.com.br
X-WR-CALDESC:Eventos para Arte Que Acontece
REFRESH-INTERVAL;VALUE=DURATION:PT1H
X-Robots-Tag:noindex
X-PUBLISHED-TTL:PT1H
BEGIN:VTIMEZONE
TZID:America/Sao_Paulo
BEGIN:STANDARD
TZOFFSETFROM:-0300
TZOFFSETTO:-0300
TZNAME:-03
DTSTART:20230101T000000
END:STANDARD
END:VTIMEZONE
BEGIN:VEVENT
DTSTART;TZID=America/Sao_Paulo:20240405T110000
DTEND;TZID=America/Sao_Paulo:20241027T180000
DTSTAMP:20260419T063846
CREATED:20240607T110356Z
LAST-MODIFIED:20240607T110359Z
UID:49137-1712314800-1730052000@artequeacontece.com.br
SUMMARY:"Rose Marie Cromwell: A Geological Survey" no ICA Miami
DESCRIPTION:Rose Marie Cromwell\, Rearview\, 2022. Cortesia da artista.\n\n\n\nO ICA Miami apresenta “Rose Marie Cromwell: A Geological Survey”\, a primeira exposição individual da artista em um museu\, destacando seu trabalho mais recente de 2022-23\, no qual ela aplica sua própria interpretação à tradicional arte da fotografia de paisagem. Uma reflexão pessoal sobre identidade\, maturação e relações familiares\, a série de fotografias acompanha a artista\, sua mãe e sua filha jovem em uma jornada pelo Oeste Americano. Juxtapondo esse empreendimento profundamente pessoal com preocupações sociais e ecológicas mais amplas\, as fotografias visualmente impactantes e emocionantes confrontam a história complexa da região e o legado carregado das representações artísticas da paisagem. \n\n\n\nRose Marie Cromwell (n. 1983\, Sacramento; baseada em Miami) é uma artista de foto e vídeo cujo trabalho explora os efeitos da globalização no local\, bem como o espaço tênue entre o político e o espiritual. Seu primeiro livro\, El Libro Supremo de la Suerte\, foi publicado em 2018 pela TIS books e recebeu o Prêmio Light Work Photobook e foi nomeado um dos 25 Melhores Fotolivros de 2018 pela revista TIME. Em 2021\, ela publicou dois livros\, Eclipse (TIS books) e A More Fluid Atmosphere (Pomegranate Press). Ela teve exposições individuais na DiabloRosso e Antítesis\, ambas na Cidade do Panamá\, Panamá; Institute 193\, Lexington\, Kentucky; e Filter Photo\, Chicago. Seu trabalho também foi exibido na Aperture Foundation\, Nova York; High Museum\, Atlanta; PRIZM Art Fair\, Miami; TILT Institute for the Contemporary Image\, Filadélfia; e o Silver Eye Center for Photography\, Pittsburgh; entre muitos outros. Cromwell é beneficiária de uma bolsa Fulbright e uma bolsa Getty Reportage\, foi artista residente no Light Work e artista residente na Oolite Arts em Miami. \n\n\n\n“Rose Marie Cromwell: A Geological Survey” é organizada pelo Instituto de Arte Contemporânea\, Miami\, e curada por Gean Moreno\, Diretor do Centro Art + Research da Fundação Knight no ICA Miami\, e Amanda Morgan\, Curadora Assistente\, Exposições e Publicações.
URL:https://artequeacontece.com.br/evento/rose-marie-cromwell-a-geological-survey-no-ica-miami/
LOCATION:Institute of Contemporary Art Miami\, 61 NE 41st Street\, Miami\, Flórida\, Estados Unidos
CATEGORIES:Miami
ATTACH;FMTTYPE=image/jpeg:https://artequeacontece.com.br/wp-content/uploads/2024/06/cd5454cc-rmc_029_srgb-scaled-1.jpg
END:VEVENT
END:VCALENDAR