BEGIN:VCALENDAR
VERSION:2.0
PRODID:-//Arte Que Acontece - ECPv6.15.20//NONSGML v1.0//EN
CALSCALE:GREGORIAN
METHOD:PUBLISH
X-WR-CALNAME:Arte Que Acontece
X-ORIGINAL-URL:https://artequeacontece.com.br
X-WR-CALDESC:Eventos para Arte Que Acontece
REFRESH-INTERVAL;VALUE=DURATION:PT1H
X-Robots-Tag:noindex
X-PUBLISHED-TTL:PT1H
BEGIN:VTIMEZONE
TZID:America/Sao_Paulo
BEGIN:STANDARD
TZOFFSETFROM:-0300
TZOFFSETTO:-0300
TZNAME:-03
DTSTART:20210101T000000
END:STANDARD
END:VTIMEZONE
BEGIN:VEVENT
DTSTART;TZID=America/Sao_Paulo:20221109T120000
DTEND;TZID=America/Sao_Paulo:20230305T180000
DTSTAMP:20260422T054613
CREATED:20230213T202832Z
LAST-MODIFIED:20230215T234443Z
UID:38386-1667995200-1678039200@artequeacontece.com.br
SUMMARY:Rodrigo Torres no Instituto Artium de Cultura
DESCRIPTION:Na mostra “Vale da Utopia”\, o artista Rodrigo Torres apresenta uma seleção especial de trabalhos produzidos nos últimos anos. Amparado por diversas técnicas\, Rodrigo cria objetos tridimensionais que mesclam a presença e a ausência de figuras e fundos\, alternando densidades\, volumes e cores. As mais de 20 obras convidam o espectador a experimentar o olhar de um artista em estado convulsivo e catártico de criação. Sua matéria prima é a cerâmica\, que cria em formatos que muitas vezes remetem aos contornos de objetos cotidianos e são amalgamados\, fundidos\, amassados e retorcidos\, subvertendo a percepção do peso dos objetos e criando silhuetas inusuais\, que jogam com o olhar do espectador. O artista visual brasileiro Rodrigo Torres vive e trabalha no Rio de Janeiro. Seus trabalhos são em sua maioria objetos tridimensionais que se mesclam a fotografias e pinturas\, unidos em uma simbiose que elabora uma linguagem visual disruptiva. Impregnados de estratégias de deslocamentos óticos e transformações ilusórias por caminhos poéticos\, as formas e texturas se entrecruzam e a natureza do material traz o olhar do espectador a viajar por entre suas especificidades.
URL:https://artequeacontece.com.br/evento/rodrigo-torres-no-instituto-artium-de-cultura/
LOCATION:Instituto Artium de Cultura\, 874 R. Piauí Higienópolis\, São Paulo\, São Paulo\, Brasil
CATEGORIES:São Paulo
ATTACH;FMTTYPE=image/jpeg:https://artequeacontece.com.br/wp-content/uploads/2023/02/68703918-48276318.jpeg
END:VEVENT
END:VCALENDAR