BEGIN:VCALENDAR
VERSION:2.0
PRODID:-//Arte Que Acontece - ECPv6.15.20//NONSGML v1.0//EN
CALSCALE:GREGORIAN
METHOD:PUBLISH
X-WR-CALNAME:Arte Que Acontece
X-ORIGINAL-URL:https://artequeacontece.com.br
X-WR-CALDESC:Eventos para Arte Que Acontece
REFRESH-INTERVAL;VALUE=DURATION:PT1H
X-Robots-Tag:noindex
X-PUBLISHED-TTL:PT1H
BEGIN:VTIMEZONE
TZID:America/Sao_Paulo
BEGIN:STANDARD
TZOFFSETFROM:-0300
TZOFFSETTO:-0300
TZNAME:-03
DTSTART:20220101T000000
END:STANDARD
END:VTIMEZONE
BEGIN:VEVENT
DTSTART;TZID=America/Sao_Paulo:20230808T110000
DTEND;TZID=America/Sao_Paulo:20230909T190000
DTSTAMP:20260422T072451
CREATED:20230815T175559Z
LAST-MODIFIED:20230815T175617Z
UID:43250-1691492400-1694286000@artequeacontece.com.br
SUMMARY:"Rodrigo de Castro: Entre Formas e Cores" na Galeria Patrícia Costa
DESCRIPTION:Conhecido pelas pinceladas precisas que exploram o campo cromático com linhas geométricas\, Rodrigo de Castro se permitiu transitar\, pela primeira vez em sua carreira\, entre o plano e a tridimensionalidade. Como ele mesmo definiu\, estará revelando sua faceta de “pintor fazendo esculturas”: depois de seis anos sem expor uma individual no Rio de Janeiro\, o artista mostrará aqui\, em caráter inédito\, esculturas de aço com pintura automotiva – além de pinturas de grandes e médios formatos concluídas recentemente -\, na individual Rodrigo de Castro: Entre Formas e Cores. Quem acompanha a trajetória do artista\, se surpreenderá também com a nova série de telas pretas cortadas por discretas linhas de cor. \n\n\n\nNa exposição que abre na Galeria Patrícia Costa\, sob curadoria de Vanda Klabin\, é possível constatar como o estreitamento do diálogo com a pintura originou as esculturas (algumas medindo 1\,20 por 1\,20 metros)\, que ganharam escala para uma melhor percepção do espaço e da cor. \n\n\n\n“A interação matéria (aço)-cor\, passou a ser espaço-cor. Em ambos os casos a luz leva para as esculturas o movimento e as estruturas geométricas da pintura”\, explica Rodrigo de Castro. Foi observando a vibração das cores no plano das telas que tudo teve início: “olhava e percebia\, sentia que\, em determinadas pinturas\, a cor parecia sair do plano\, como se ganhasse volume pela intensa vibração. Resolvi então pesquisar esse caminho e entender o que seria a cor no espaço. Como colocar de pé um azul?”\, complementa. \n\n\n\n“A recente produção de Rodrigo de Castro conjuga a articulação do plano pictórico com um processo de linhas e formas que traduzem unidades intensas e revelam o seu enfrentamento direto com a pintura. Os elementos estruturantes do seu trabalho derivam do pensamento pictórico fundado pelos contrastes dos campos de cor e dispostas em um jogo de derivações geométricas\, instaurando uma associação fértil e indissolúvel”\, avalia a curadora e historiadora Vanda Klabin\, amiga de longa data do grande artista e escultor Amílcar de Castro\, pai de Rodrigo.“ Os contrastes entre a opacidade e o brilho\, aliados ao campo de coloração e a presença forte de uma ordenação geométrica\, trazem maior materialidade ao seu trabalho que agora se desdobra no plano tridimensional”.
URL:https://artequeacontece.com.br/evento/rodrigo-de-castro-entre-formas-e-cores-na-galeria-patricia-costa/
LOCATION:Galeria Patrícia Costa\, Shopping Cassino Atlântico - Av. Atlântica\, 4240 - Loja 224/225 - Copacabana\, Rio de Janeiro\, RJ\, Brasil
CATEGORIES:Rio de Janeiro
ATTACH;FMTTYPE=image/jpeg:https://artequeacontece.com.br/wp-content/uploads/2023/08/rodrigo-de-castro-1-1.jpg
END:VEVENT
END:VCALENDAR