BEGIN:VCALENDAR
VERSION:2.0
PRODID:-//Arte Que Acontece - ECPv6.15.20//NONSGML v1.0//EN
CALSCALE:GREGORIAN
METHOD:PUBLISH
X-WR-CALNAME:Arte Que Acontece
X-ORIGINAL-URL:https://artequeacontece.com.br
X-WR-CALDESC:Eventos para Arte Que Acontece
REFRESH-INTERVAL;VALUE=DURATION:PT1H
X-Robots-Tag:noindex
X-PUBLISHED-TTL:PT1H
BEGIN:VTIMEZONE
TZID:America/Sao_Paulo
BEGIN:STANDARD
TZOFFSETFROM:-0300
TZOFFSETTO:-0300
TZNAME:-03
DTSTART:20240101T000000
END:STANDARD
END:VTIMEZONE
BEGIN:VEVENT
DTSTART;TZID=America/Sao_Paulo:20250614T120000
DTEND;TZID=America/Sao_Paulo:20250801T180000
DTSTAMP:20260425T155556
CREATED:20250615T204242Z
LAST-MODIFIED:20250615T204242Z
UID:63236-1749902400-1754071200@artequeacontece.com.br
SUMMARY:"ROCADA: eclosão de desejos da Terra" de Lívia Moura VAV no Paço Imperial
DESCRIPTION:Lívia Moura VAV\, “Cosmopolítica”\, 2025 – Divulgação\n\n\n\n\nA partir do dia 14 de junho\, às 15h\, o Paço Imperial\, no Rio de Janeiro\, recebe a exposição ROCADA: eclosão de desejos da Terra\, da artista visual carioca Lívia Moura VAV. Sob a curadoria de Sandra Benites e Luiz Guilherme Vergara\, a mostra ocupa a galeria Terreiro com 15 pinturas inéditas de grande formato em diálogo com uma instalação têxtil site especific\, de 50 metros de extensão. Desenvolvida em colaboração com artesãs da Cooperativa da Lã Mulheres Rurais da Montanha\, vindas do município de Itamonte\, na Serra da Mantiqueira\, Minas Gerais\, a peça intitulada “placenTEAR” é composta por um tear suspenso que se ramifica por toda a área expositiva e\, de acordo com a artista\, remete a uma árvore da vida. \n“Rocada” (quantidade de lã necessária para encher uma roca) pensa arte como eclosão – não apenas de formas\, mas de desejos da Terra. É uma trama em que arte\, política\, cuidado e território se entrelaçam e articulam saberes ancestrais\, educação ambiental\, práticas decoloniais e estética expandida. \nNa entrada da sala expositiva\, montes de lã anunciam o percurso sensorial que acompanha a cadeia produtiva da lã – da desfiação à tecelagem – conduzida pelas artesãs da zona rural de Minas Gerais\, que estarão presentes na abertura\, ativando a obra e convocando o público a interagir com a instalação. “Elas vêm ao Rio também para ver o mar pela primeira vez”\, revela Lívia.
URL:https://artequeacontece.com.br/evento/rocada-eclosao-de-desejos-da-terra-de-livia-moura-vav-no-paco-imperial/
LOCATION:Paço Imperial\, Praça Quinze de Novembro\, 48 - Centro\, Rio de Janeiro\, RJ\, Brasil
CATEGORIES:Rio de Janeiro
ATTACH;FMTTYPE=image/jpeg:https://artequeacontece.com.br/wp-content/uploads/2025/06/Cosmopolitica-12mx2m-pigmentos-naturais_-argila-mica-couro-sustentavel-de-pirarucu-cogumelos-feitos-com-la-de-carneiro-feltrada-pela-cooperativa-da-la-2025-1-1.jpg
END:VEVENT
END:VCALENDAR