BEGIN:VCALENDAR
VERSION:2.0
PRODID:-//Arte Que Acontece - ECPv6.15.20//NONSGML v1.0//EN
CALSCALE:GREGORIAN
METHOD:PUBLISH
X-WR-CALNAME:Arte Que Acontece
X-ORIGINAL-URL:https://artequeacontece.com.br
X-WR-CALDESC:Eventos para Arte Que Acontece
REFRESH-INTERVAL;VALUE=DURATION:PT1H
X-Robots-Tag:noindex
X-PUBLISHED-TTL:PT1H
BEGIN:VTIMEZONE
TZID:America/Sao_Paulo
BEGIN:STANDARD
TZOFFSETFROM:-0300
TZOFFSETTO:-0300
TZNAME:-03
DTSTART:20240101T000000
END:STANDARD
END:VTIMEZONE
BEGIN:VEVENT
DTSTART;TZID=America/Sao_Paulo:20250506T100000
DTEND;TZID=America/Sao_Paulo:20250921T170000
DTSTAMP:20260419T103718
CREATED:20250621T184257Z
LAST-MODIFIED:20250621T184257Z
UID:63387-1746525600-1758474000@artequeacontece.com.br
SUMMARY:"Robert Healy to John Minton: the Nina Drucker bequest" no British Museum
DESCRIPTION:William Turner of Oxford\, “Study from Nature on Shotover Hill”. c. 1810s–20s. Divulgação\n\n\n\n\nEsta mostra celebra a doação de Nina Drucker (1934–2022)\, colecionadora de arte dos séculos XVIII ao XX e apoiadora de longa data do British Museum. \nTendo estudado piano na Royal Academy of Music’s Junior Academy e frequentado concertos ao longo de toda a vida\, Drucker era uma entusiasta da música — e também profundamente apaixonada pelas artes visuais. Sua doação inclui 30 gravuras e desenhos\, selecionados de um acervo de mais de uma centena de obras que ocupavam literalmente todas as superfícies disponíveis de seu apartamento no norte de Londres. A coleção traz obras de artistas até então não representados no acervo do museu. \nA seleção apresentada aqui reúne alguns dos destaques da doação\, ao lado de obras da coleção permanente — com a qual Drucker tinha grande familiaridade por meio de visitas a exposições\, consultas no Prints and Drawings Study Room e na plataforma Collection online. Um raro desenho do retratista irlandês Robert Healy (1743–1771) torna-se a primeira obra desse artista a ingressar no British Museum. Aquarelas de paisagem de David Cox (1783–1859) e William Turner of Oxford (1789–1862) complementam os conjuntos já existentes desses artistas. Algumas das obras favoritas de Drucker\, como as gravuras de Christopher Richard Wynne Nevinson (1889–1946) e um conjunto de desenhos de John Minton (1917–1957)\, fortalecem de forma significativa o acervo de arte moderna britânica do museu.
URL:https://artequeacontece.com.br/evento/robert-healy-to-john-minton-the-nina-drucker-bequest-no-british-museum/
LOCATION:British Museum\, Great Russell St\, Londres\, Reino unido
CATEGORIES:Londres
ATTACH;FMTTYPE=image/jpeg:https://artequeacontece.com.br/wp-content/uploads/2025/06/Study_from_Nature_on_Shotover_Hill_William_Turner_hero.jpg
END:VEVENT
END:VCALENDAR