BEGIN:VCALENDAR
VERSION:2.0
PRODID:-//Arte Que Acontece - ECPv6.15.20//NONSGML v1.0//EN
CALSCALE:GREGORIAN
METHOD:PUBLISH
X-WR-CALNAME:Arte Que Acontece
X-ORIGINAL-URL:https://artequeacontece.com.br
X-WR-CALDESC:Eventos para Arte Que Acontece
REFRESH-INTERVAL;VALUE=DURATION:PT1H
X-Robots-Tag:noindex
X-PUBLISHED-TTL:PT1H
BEGIN:VTIMEZONE
TZID:America/Sao_Paulo
BEGIN:STANDARD
TZOFFSETFROM:-0300
TZOFFSETTO:-0300
TZNAME:-03
DTSTART:20240101T000000
END:STANDARD
END:VTIMEZONE
BEGIN:VEVENT
DTSTART;TZID=America/Sao_Paulo:20251128T100000
DTEND;TZID=America/Sao_Paulo:20260221T190000
DTSTAMP:20260422T073508
CREATED:20251204T205239Z
LAST-MODIFIED:20251204T205239Z
UID:66181-1764324000-1771700400@artequeacontece.com.br
SUMMARY:"Rios Falam\, Rios Cantam" de Caio Rosa na Galeria Lume
DESCRIPTION:Caio Rosa\, exposição “Rios Falam\, Rios Cantam” 2025. Divulgação.\nA exposição reúne uma generosa apresentação do artista Caio Rosa\, que abrange fotografia\, escultura\, têxteis\, instrumentos musicais e som\, articulando a exploração contínua do artista sobre ritmo e memória\, construindo um espaço onde a materialidade dialoga com a narrativa e onde o uso da imagem se torna um modo de escuta. \nA música desempenha um papel central no trabalho de Rosa\, que faz a ponte entre territórios carregados de significado e o conhecimento geracional. Partindo das texturas sonoras do continente africano e suas ressonâncias nas tradições musicais brasileiras\, ele investiga como o som carrega histórias de movimento\, resistência e celebração. No centro desta exposição está a construção de uma nova marimba\, feita em colaboração com seu pai\, o etnomusicólogo Spirito Santo\, dando continuidade a uma linhagem de criação musical. A marimba\, um instrumento e dispositivo simbólico\, aqui é uma escultura de som. Suas teclas de madeira e corpo ressonante remetem a histórias migratórias e\, na exposição\, é uma ferramenta para a transmissão de conhecimento entre gerações\, de seu avô para ele mesmo. A marimba recém-construída nos lembra que ela é moldada por corpos em constante relação. \nO som se torna um portal através do qual histórias pessoais e coletivas reaparecem em diferentes formas\, além da linguagem. Um arquivo sonoro convida o público a uma sessão de audição dentro da exposição. A peça mistura várias gravações de som. Nessa mistura\, algumas emergem como sons distorcidos\, como ecos de histórias que se desdobram em novas interpretações coletivas. O arquivo reúne contribuições de Spirito Santo\, Caio Rosa e outros músicos colaboradores\, juntamente com canções de trabalho Vissungo das minas de Diamantina\, em Minas Gerais\, que datam de 1944. Esses cruzamentos de tempo revelam como a prática de Rosa segue uma história de sons que recusa a cronologia linear. Todos convergem\, lembrando-nos que o som está sempre em movimento\, é multifacetado e sempre retorna.
URL:https://artequeacontece.com.br/evento/rios-falam-rios-cantam-de-caio-rosa-na-galeria-lume/
LOCATION:Galeria Lume\, Rua Gumercindo Saraiva\, 54 - Jardim Europa\, São Paulo\, SP\, Brasil
CATEGORIES:São Paulo
ATTACH;FMTTYPE=image/jpeg:https://artequeacontece.com.br/wp-content/uploads/2025/12/caio-rosa-rios-falam-rios-cantam.jpg
END:VEVENT
END:VCALENDAR