BEGIN:VCALENDAR
VERSION:2.0
PRODID:-//Arte Que Acontece - ECPv6.15.20//NONSGML v1.0//EN
CALSCALE:GREGORIAN
METHOD:PUBLISH
X-WR-CALNAME:Arte Que Acontece
X-ORIGINAL-URL:https://artequeacontece.com.br
X-WR-CALDESC:Eventos para Arte Que Acontece
REFRESH-INTERVAL;VALUE=DURATION:PT1H
X-Robots-Tag:noindex
X-PUBLISHED-TTL:PT1H
BEGIN:VTIMEZONE
TZID:America/Sao_Paulo
BEGIN:STANDARD
TZOFFSETFROM:-0300
TZOFFSETTO:-0300
TZNAME:-03
DTSTART:20240101T000000
END:STANDARD
END:VTIMEZONE
BEGIN:VEVENT
DTSTART;TZID=America/Sao_Paulo:20250826T080000
DTEND;TZID=America/Sao_Paulo:20260220T170000
DTSTAMP:20260422T030359
CREATED:20250825T191700Z
LAST-MODIFIED:20250825T191700Z
UID:64355-1756195200-1771606800@artequeacontece.com.br
SUMMARY:"Respiração da Terra" de Denise Milan no Rosewood São Paulo
DESCRIPTION:Denise Milan\, “Caminho de Ouro Luz”. Crédito: Leonardo Finotti\nRosewood São Paulo recebe a nova exposição “Respiração da Terra”\, da artista Denise Milan\, honrando o conceito A Sense of Place® do Rosewood Hotels & Resorts ao valorizar talentos brasileiros. Em busca de nos reconciliar com as pulsações de uma Terra desconhecida\, a artista conecta a obra de arte a culturas\, crenças\, sonhos e ficções\, conferindo profundidade histórica e antropológica a muitas de suas reutilizações e apropriações. Com curadoria de Marc Pottier\, as novas obras estarão disponíveis para visitação do público a partir de 26 de agosto. \nNessa mostra\, a artista visionária e polímata — um pouco xamã\, um pouco alquimista — procura mostrar como o caminho do ouro conduz ao nosso eu interior. Explorando as relações entre os infinitos pequeno e grande\, Denise se inspira no invisível que nos faz viver e dirige suas criações de escrituras de bronze\, pedra\, fósseis e cristais para transcrevê-los em composições sem fim. “Um dos elementos escolhidos para construir essa narrativa foram os estromatólitos\, os mais antigos fósseis visíveis\, testemunhas dos primeiros organismos responsáveis pelo gás oxigênio que surgiu no planeta há cerca de 3\,5 bilhões de anos”\, explica a artista. \nO percurso artístico “Respiração da Terra” é uma extensão de sua obra “Olhar Mater”\, instalada no ano passado na entrada dos jardins do hotel. “Quando instalamos a escultura no ano passado\, tivemos a impressão de que ela se casou perfeitamente com a energia do hotel e logo propusemos essa nova exposição”\, conta Denise. “O novo trajeto propõe uma jornada existencial que enriquece a experiência do visitante no espaço através de uma evolução temática e visual\, e faz um convite à reflexão sobre a eternidade\, o infinito\, a harmonia\, a ideia de um ciclo contínuo\, sem começo nem fim”\, explica. \n“Essa exposição da Denise Milan é uma verdadeira viagem pela história e nos leva para lugares de encontro com nós mesmos\, abrindo espaço para refletirmos sobre nossa jornada rumo à origem do universo”\, comenta o curador Marc Pottier. “Ano passado\, instalamos o ‘Olho Mater’ na entrada dos jardins do hotel e agora receber o novo percurso artístico de Denise no Le Jardin Selva fortalece nosso compromisso de valorizar e impulsionar talentos brasileiros aqui no Rosewood”\, complementa. \nOs visitantes podem apreciar as novas esculturas de Denise Milan no Le Jardin Selva\, galeria a céu aberto em meio a espécies nativas da Mata Atlântica\, e as fotocolagens nas paredes de entrada do hotel e na Art Library\, loja de artigos especiais da propriedade.
URL:https://artequeacontece.com.br/evento/respiracao-da-terra-de-denise-milan-no-rosewood-sao-paulo/
LOCATION:Rosewood São Paulo\, Rua Itapeva\, 435 – Bela Vista\, São Paulo\, SP\, Brazil
CATEGORIES:São Paulo
ATTACH;FMTTYPE=image/jpeg:https://artequeacontece.com.br/wp-content/uploads/2025/08/Caminho-de-Ouro-Luz_Denise-Milan_Credito-Leonardo-Finotti-1.jpg
END:VEVENT
END:VCALENDAR