BEGIN:VCALENDAR
VERSION:2.0
PRODID:-//Arte Que Acontece - ECPv6.15.20//NONSGML v1.0//EN
CALSCALE:GREGORIAN
METHOD:PUBLISH
X-WR-CALNAME:Arte Que Acontece
X-ORIGINAL-URL:https://artequeacontece.com.br
X-WR-CALDESC:Eventos para Arte Que Acontece
REFRESH-INTERVAL;VALUE=DURATION:PT1H
X-Robots-Tag:noindex
X-PUBLISHED-TTL:PT1H
BEGIN:VTIMEZONE
TZID:America/Sao_Paulo
BEGIN:STANDARD
TZOFFSETFROM:-0300
TZOFFSETTO:-0300
TZNAME:-03
DTSTART:20230101T000000
END:STANDARD
END:VTIMEZONE
BEGIN:VEVENT
DTSTART;TZID=America/Sao_Paulo:20240609T110000
DTEND;TZID=America/Sao_Paulo:20240804T180000
DTSTAMP:20260422T060212
CREATED:20240613T193544Z
LAST-MODIFIED:20240613T193546Z
UID:49283-1717930800-1722794400@artequeacontece.com.br
SUMMARY:"Refashioning: CFGNY & Wataru Tominaga" no Hammer Museum
DESCRIPTION:Refashioning: CFGNY & Wataru Tominaga\, vista da instalação\, Japan Society\, Nova York\, 18 de novembro de 2022 a 19 de fevereiro de 2023. Foto: Kirsten Kilponen\n\n\n\nRefashioning apresenta dois espaços de projeto de artistas transdisciplinares e estilistas da Concept Foreign Garments New York (CFGNY) e Wataru Tominaga. Com peças de vestuário\, acessórios e trabalhos têxteis\, a exposição examina as maneiras pelas quais essas duas práticas — uma baseada em Nova York\, a outra em Tóquio — desafiam noções preconcebidas de gênero e identidade\, e em particular o que os artistas descrevem como estéticas “vagamente asiáticas”. Essas intervenções específicas do local consistem em trabalhos pré-existentes e novos que exploram como a moda pode ser abordada como um meio com uma capacidade única de revelar histórias sociopolíticas que são literalmente travadas no corpo.
URL:https://artequeacontece.com.br/evento/refashioning-cfgny-wataru-tominaga-no-hammer-museum/
CATEGORIES:Los Angeles
ATTACH;FMTTYPE=image/jpeg:https://artequeacontece.com.br/wp-content/uploads/2024/06/IMG_1527_CFGNY.jpg-1.jpeg
END:VEVENT
END:VCALENDAR