BEGIN:VCALENDAR
VERSION:2.0
PRODID:-//Arte Que Acontece - ECPv6.15.20//NONSGML v1.0//EN
CALSCALE:GREGORIAN
METHOD:PUBLISH
X-WR-CALNAME:Arte Que Acontece
X-ORIGINAL-URL:https://artequeacontece.com.br
X-WR-CALDESC:Eventos para Arte Que Acontece
REFRESH-INTERVAL;VALUE=DURATION:PT1H
X-Robots-Tag:noindex
X-PUBLISHED-TTL:PT1H
BEGIN:VTIMEZONE
TZID:America/Sao_Paulo
BEGIN:STANDARD
TZOFFSETFROM:-0300
TZOFFSETTO:-0300
TZNAME:-03
DTSTART:20230101T000000
END:STANDARD
END:VTIMEZONE
BEGIN:VEVENT
DTSTART;TZID=America/Sao_Paulo:20241202T113000
DTEND;TZID=America/Sao_Paulo:20250921T173000
DTSTAMP:20260422T072513
CREATED:20241203T224808Z
LAST-MODIFIED:20241203T224808Z
UID:60123-1733139000-1758475800@artequeacontece.com.br
SUMMARY:"Recent Acquisitions" no Rubell Museum
DESCRIPTION:Vista da exposição com obras de February James e Murjoni Merriweather. Divulgação/Cortesia Rubell Museum\n\n\n\n\nEstendendo a paixão multigeracional dos Rubells por descobrir e apoiar muitos dos artistas mais fascinantes da atualidade\, uma apresentação de aquisições recentes ocupa as galerias centrais do museu. Com exposições individuais de sete artistas\, a maioria deles exibindo pela primeira vez em um museu nos Estados Unidos\, a mostra demonstra o compromisso contínuo dos Rubells em identificar\, envolver e promover artistas emergentes. Os artistas apresentados incluem: \n\nPatrick Goddard\nOlaolu Slawn\nEmmanuel Louisnord Desir\nFebruary James\, Murjoni Merriweather\nMichelle Uckotter\nOmari Douglin
URL:https://artequeacontece.com.br/evento/recent-acquisitions-no-rubell-museum/
LOCATION:Rubell Museum\, 1100 NW 23rd St Allapattah\, Miami\, Flórida\, Estados Unidos
CATEGORIES:Miami
ATTACH;FMTTYPE=image/jpeg:https://artequeacontece.com.br/wp-content/uploads/2024/12/39A1305-1.jpg
END:VEVENT
END:VCALENDAR