BEGIN:VCALENDAR
VERSION:2.0
PRODID:-//Arte Que Acontece - ECPv6.15.20//NONSGML v1.0//EN
CALSCALE:GREGORIAN
METHOD:PUBLISH
X-WR-CALNAME:Arte Que Acontece
X-ORIGINAL-URL:https://artequeacontece.com.br
X-WR-CALDESC:Eventos para Arte Que Acontece
REFRESH-INTERVAL;VALUE=DURATION:PT1H
X-Robots-Tag:noindex
X-PUBLISHED-TTL:PT1H
BEGIN:VTIMEZONE
TZID:America/Sao_Paulo
BEGIN:STANDARD
TZOFFSETFROM:-0300
TZOFFSETTO:-0300
TZNAME:-03
DTSTART:20250101T000000
END:STANDARD
END:VTIMEZONE
BEGIN:VEVENT
DTSTART;TZID=America/Sao_Paulo:20260323T080000
DTEND;TZID=America/Sao_Paulo:20260323T170000
DTSTAMP:20260419T103417
CREATED:20260323T212922Z
LAST-MODIFIED:20260323T213048Z
UID:70119-1774252800-1774285200@artequeacontece.com.br
SUMMARY:Raúl Silva na F2 Galeria
DESCRIPTION:A exposição Naturalización técnica. Tecnificación natural\, de Raúl Silva\, investiga como as telecomunicações foram representadas desde a segunda metade do século XX\, evidenciando o apagamento de sua materialidade. \nA mostra reúne arquivos\, publicações e objetos que revelam como a cultura visual construiu uma ficção tecnológica: em vez de infraestruturas físicas\, surgem “céus azuis”\, “rostos sorridentes” e “feixes de luz” que apresentam a comunicação como algo imaterial e naturalizado . Exemplos como a revista corporativa da CTNE\, nos anos 1960–80\, mostram a fusão entre discurso técnico\, cultura e publicidade\, contribuindo para incorporar a tecnologia ao cotidiano. \nAo mesmo tempo\, obras e relatos destacam o contraste entre esse imaginário e a realidade do trabalho técnico — como na instalação de cabos em ambientes suburbanos — evidenciando a coexistência entre natureza e infraestrutura.
URL:https://artequeacontece.com.br/evento/raul-silva-na-f2-galeria/
LOCATION:F2 Galeria\, DOCTOR FOURQUET 28. 28012\, Madri\, Spain
CATEGORIES:Destaque,Madri
ATTACH;FMTTYPE=image/png:https://artequeacontece.com.br/wp-content/uploads/2026/03/1MB_F2_RS26__2003.26_202-e1774301339818.png
END:VEVENT
END:VCALENDAR