BEGIN:VCALENDAR
VERSION:2.0
PRODID:-//Arte Que Acontece - ECPv6.15.20//NONSGML v1.0//EN
CALSCALE:GREGORIAN
METHOD:PUBLISH
X-WR-CALNAME:Arte Que Acontece
X-ORIGINAL-URL:https://artequeacontece.com.br
X-WR-CALDESC:Eventos para Arte Que Acontece
REFRESH-INTERVAL;VALUE=DURATION:PT1H
X-Robots-Tag:noindex
X-PUBLISHED-TTL:PT1H
BEGIN:VTIMEZONE
TZID:America/Sao_Paulo
BEGIN:STANDARD
TZOFFSETFROM:-0300
TZOFFSETTO:-0300
TZNAME:-03
DTSTART:20220101T000000
END:STANDARD
END:VTIMEZONE
BEGIN:VEVENT
DTSTART;TZID=America/Sao_Paulo:20230318T100000
DTEND;TZID=America/Sao_Paulo:20230430T170000
DTSTAMP:20260419T085853
CREATED:20230420T162139Z
LAST-MODIFIED:20230420T162142Z
UID:39979-1679133600-1682874000@artequeacontece.com.br
SUMMARY:Raul Mourão na Casa França-Brasil
DESCRIPTION:Com curadoria de Marcus de Lontra Costa e Rafael Peixoto\, a individual Lugar Geométrico\, de Raul Mourão\, que abre a programação 2023 da Casa França-Brasil\, reúne trabalhos em diferentes escalas que exploram as relações com a arquitetura histórica do prédio a partir das dicotomias entre dentro e fora\, cheio e vazio\, público e íntimo\, instável e estável. Na mostra\, Raul Mourão recria o ambiente de seu ateliê\, com quatro esculturas cinéticas grandes\, de até 5 metros de altura\, além de desenhos e aproximadamente 40 maquetes de suas esculturas\, entre 20 e 30 cm cada. O título da exposição\, Lugar Geométrico\, inspira-se em um conceito da geometria analítica para propor reflexões sobre as questões de pertencimento que atravessam a arte contemporânea\, tomando as formas e linhas como ponto de partida. Para isso\, a exposição traz trabalhos que exploram o movimento pendular em esculturas de ferro da série Rebel\, com destaque para duas obras em grande escala criadas por Raul em 2020 que ocupam o grande átrio central da Casa França-Brasil. Além disso\, em um dos salões laterais\, serão apresentados maquetes e estudos de trabalhos já realizados e de séries ainda em desenvolvimento\, transmitindo a sensação de uma visita ao ateliê e propondo ao público uma experimentação íntima do processo de criação do artista. “Na sala menor a curadoria optou por apresentar uma espécie de visita ao ateliê. Decidimos então reunir num mesmo espaço desenhos de diferentes técnicas e formatos\, fotografias\, pinturas\, um vídeo e um conjunto de 36 maquetes que nunca havia sido  mostrado anteriormente. Essa montagem meio caótica\, onde vários meios (por vezes antagônicos) convivem\, remete ao ambiente e às experiências que vão acontecendo e se sobrepondo cotidianamente no ateliê”\, diz Mourão. “Em meio ao turbilhão de imagens e ideias da contemporaneidade Raul Mourão cria\, constrói e ressignifica a essência construtiva na arte. Liberta de seus compromissos utópicos\, a geometria se afirma como síntese de um discurso poético que acentua a atemporalidade da criação artística. Nesse encontro entre a objetividade do cálculo e a surpresa das poéticas dos movimentos pendulares\, a produção de Raul Mourão dialoga de maneira impactante com a arquitetura da Casa França-Brasil e acentua a potência criativa do artista”\, complementa Marcus de Lontra Costa\, que divide a curadoria com Rafael Fortes Peixoto.
URL:https://artequeacontece.com.br/evento/raul-mourao-na-casa-franca-brasil-2/
LOCATION:Casa França-Brasil\, Rua Visconde de Itaboraí\, 78\, Centro\, Rio de Janeiro\, Rio de Janeiro\, Brasil
CATEGORIES:Rio de Janeiro
ATTACH;FMTTYPE=image/jpeg:https://artequeacontece.com.br/wp-content/uploads/2023/03/mourao.jpg
END:VEVENT
END:VCALENDAR