BEGIN:VCALENDAR
VERSION:2.0
PRODID:-//Arte Que Acontece - ECPv6.15.20//NONSGML v1.0//EN
CALSCALE:GREGORIAN
METHOD:PUBLISH
X-WR-CALNAME:Arte Que Acontece
X-ORIGINAL-URL:https://artequeacontece.com.br
X-WR-CALDESC:Eventos para Arte Que Acontece
REFRESH-INTERVAL;VALUE=DURATION:PT1H
X-Robots-Tag:noindex
X-PUBLISHED-TTL:PT1H
BEGIN:VTIMEZONE
TZID:America/Sao_Paulo
BEGIN:STANDARD
TZOFFSETFROM:-0300
TZOFFSETTO:-0300
TZNAME:-03
DTSTART:20240101T000000
END:STANDARD
END:VTIMEZONE
BEGIN:VEVENT
DTSTART;TZID=America/Sao_Paulo:20250515T100000
DTEND;TZID=America/Sao_Paulo:20250914T170000
DTSTAMP:20260419T093940
CREATED:20250621T185339Z
LAST-MODIFIED:20250621T185339Z
UID:63393-1747303200-1757869200@artequeacontece.com.br
SUMMARY:"Raphael to Cozens: drawings from the Richard Payne Knight bequest" no British Museum
DESCRIPTION:John Robert Cozens\, “Monte Etna visto da Grotta del Capro”\, 1777\n\n\n\n\n\n\n\n\n\n\n\n\n\nRafael\, Michelangelo e Thomas Gainsborough estão entre os grandes mestres cujas obras estarão em exibição em uma nova mostra que celebra um legado transformador do século XIX. \nO antiquário e colecionador de arte Richard Payne Knight (1751–1824) deixou em testamento mais de mil desenhos para o British Museum. A qualidade excepcional de sua coleção transformou o acervo gráfico do museu\, consolidando-o como um espaço onde o público poderia admirar tanto desenhos de mestres antigos quanto obras da arte britânica contemporânea de sua época. \nNascido em uma família abastada de industriais do ferro\, em Herefordshire\, Payne Knight recebeu uma formação clássica e\, assim como muitos de sua geração\, complementou seus estudos com uma longa viagem pela Itália\, o famoso “Grand Tour”. Lá\, aprofundou seu interesse pelas civilizações antigas\, pelos idiomas clássicos e formou o gosto estético que mais tarde orientaria tanto sua prática de colecionador quanto seus escritos teóricos. \nSua considerável fortuna lhe permitiu adquirir os melhores desenhos disponíveis no mercado de arte de Londres no final do século XVIII. A exposição explora a amplitude dos interesses intelectuais de Payne Knight por meio de algumas das obras mais celebradas desse legado. Desenhos de mestres do Renascimento e do Barroco\, como Rafael\, Michelangelo e Claude Lorrain\, estarão ao lado de trabalhos de contemporâneos seus\, como Thomas Gainsborough e John Robert Cozens. Juntas\, essas obras revelam o fascínio de Payne Knight por paisagens\, pela romantização do passado clássico e pela sua admiração pela energia e espontaneidade dos artistas que colecionava. \nEsta é a primeira vez\, desde sua chegada ao British Museum em 1824\, que uma seleção representativa desse legado tão importante é exibida ao público.
URL:https://artequeacontece.com.br/evento/raphael-to-cozens-drawings-from-the-richard-payne-knight-bequest-no-british-museum/
LOCATION:British Museum\, Great Russell St\, Londres\, Reino unido
CATEGORIES:Londres
ATTACH;FMTTYPE=image/jpeg:https://artequeacontece.com.br/wp-content/uploads/2025/06/Mount_Etna_Cozens-1.jpg
END:VEVENT
END:VCALENDAR