BEGIN:VCALENDAR
VERSION:2.0
PRODID:-//Arte Que Acontece - ECPv6.15.20//NONSGML v1.0//EN
CALSCALE:GREGORIAN
METHOD:PUBLISH
X-WR-CALNAME:Arte Que Acontece
X-ORIGINAL-URL:https://artequeacontece.com.br
X-WR-CALDESC:Eventos para Arte Que Acontece
REFRESH-INTERVAL;VALUE=DURATION:PT1H
X-Robots-Tag:noindex
X-PUBLISHED-TTL:PT1H
BEGIN:VTIMEZONE
TZID:America/Sao_Paulo
BEGIN:STANDARD
TZOFFSETFROM:-0300
TZOFFSETTO:-0300
TZNAME:-03
DTSTART:20240101T000000
END:STANDARD
END:VTIMEZONE
BEGIN:VEVENT
DTSTART;TZID=America/Sao_Paulo:20250830T110000
DTEND;TZID=America/Sao_Paulo:20251018T190000
DTSTAMP:20260419T115040
CREATED:20250910T212848Z
LAST-MODIFIED:20250910T212848Z
UID:64745-1756551600-1760814000@artequeacontece.com.br
SUMMARY:"Rabo de Cavalo" de Junia Penido na Nonada ZS
DESCRIPTION:Obra de Junia Penido – Divulgação\n\n\n\n\nA Nonada em Copacabana acaba de estrear a exposição Rabo de Cavalo\, primeira individual de Junia Penido.  \nJunia Penido (1997 – Belo Horizonte\, Brasil) vive e trabalha em Belo Horizonte. É graduada em Arquitetura e Urbanismo pela Universidade Federal de Minas Gerais\, onde desenvolveu pesquisa sobre as relações entre as práticas do ateliê de pintura e do canteiro de obras. \nA mostra conta com ensaio crítico de Ulisses Carrilho: “A pintura de Junia Penido se aproxima da opacidade como quem recusa a evidência do gesto claro\, a transparência do imediato ou a exuberância. O espectador é conduzido a uma zona de suspensão: velada\, a imagem se oferece\, mas não se deixa decifrar. Há algo do mistério que habita o corpo e do erótico que se funda não no falo\, mas no indeterminado\, no inapreensível. O enigma se instala como qualidade pictórica: nos enquadramentos\, um ponto de vista sorrateiro\, rasteiro\, um ponto de vista em quatro patas.”
URL:https://artequeacontece.com.br/evento/rabo-de-cavalo-de-junia-penido-na-nonada-zs/
LOCATION:Nonada Zona Sul\, R. Aires Saldanha\, 24\, Copacabana\, Rio de Janeiro\, Rio de Janeiro\, Brasil
CATEGORIES:Rio de Janeiro
ATTACH;FMTTYPE=image/jpeg:https://artequeacontece.com.br/wp-content/uploads/2025/09/Junia-Penido_Rabo-de-Cavalo-2-1.jpeg
END:VEVENT
END:VCALENDAR