BEGIN:VCALENDAR
VERSION:2.0
PRODID:-//Arte Que Acontece - ECPv6.15.20//NONSGML v1.0//EN
CALSCALE:GREGORIAN
METHOD:PUBLISH
X-WR-CALNAME:Arte Que Acontece
X-ORIGINAL-URL:https://artequeacontece.com.br
X-WR-CALDESC:Eventos para Arte Que Acontece
REFRESH-INTERVAL;VALUE=DURATION:PT1H
X-Robots-Tag:noindex
X-PUBLISHED-TTL:PT1H
BEGIN:VTIMEZONE
TZID:America/Sao_Paulo
BEGIN:STANDARD
TZOFFSETFROM:-0300
TZOFFSETTO:-0300
TZNAME:-03
DTSTART:20240101T000000
END:STANDARD
END:VTIMEZONE
BEGIN:VEVENT
DTSTART;TZID=America/Sao_Paulo:20250716T100000
DTEND;TZID=America/Sao_Paulo:20250823T190000
DTSTAMP:20260422T091450
CREATED:20250714T174852Z
LAST-MODIFIED:20250708T175221Z
UID:63711-1752660000-1755975600@artequeacontece.com.br
SUMMARY:"Quimera" de Fernando Lindote na Anita Schwartz Galeria de Arte
DESCRIPTION:Fernando Lindote\, “Flor nenhuma”\, 2025. Imagem / Divulgação\n\nA Anita Schwartz Galeria de Arte\, na Gávea\, inaugura no dia 16 de julho\, às 19h\, a exposição “Quimera” (release em anexo)\, de Fernando Lindote. Nascido no Rio Grande do Sul e radicado em Santa Catarina\, o artista apresenta 12 pinturas inéditas produzidas em 2025 com variação de técnica\, estilo\, escala e densidade. \nEmbora florestas\, jardins\, vasos e flores apareçam como um repertório visual recorrente — é o caso da série A cisão da superfície —\, Lindote não trata a natureza como temática\, mas como ponto de partida para refletir sobre o próprio ato de pintar. “Esses temas funcionam como um motivo pra mim. Através deles\, estabeleço a relação das coisas que quero pensar e dizer sobre pintura”\, revela. A partir dessa conexão figurativa\, o artista propõe que o espectador vá além do tema e se detenha no fazer: nas pinceladas\, na incidência da luz\, nas cores e texturas. \nCom trajetória artística de quase cinco décadas\, reconhecida por diversas premiações no campo das artes plásticas\, Fernando mergulha nesse gesto técnico e reflexivo a partir do estudo de diferentes períodos da história da arte\, da filosofia e das formas de ver o mundo de cada época. Pesquisa materiais\, pigmentos\, vernizes e investiga como a tinta se comporta sobre a tela. A floresta\, nesse contexto\, torna-se metáfora e método: “uma grande pinacoteca”\, como ele define poeticamente\, em que inúmeras possibilidades de pintura estão guardadas.
URL:https://artequeacontece.com.br/evento/quimera-de-fernando-lindote-na-anita-schwartz-galeria-de-arte/
LOCATION:Anita Schwartz Galeria de Arte\, R. José Roberto Macedo Soares\, 30\, Rido de Janeiro\, RJ\, Brasil
CATEGORIES:Rio de Janeiro
ATTACH;FMTTYPE=image/jpeg:https://artequeacontece.com.br/wp-content/uploads/2025/07/Fernando-Lindote_2025-_Flor-nenhuma_-1.jpg
END:VEVENT
END:VCALENDAR