BEGIN:VCALENDAR
VERSION:2.0
PRODID:-//Arte Que Acontece - ECPv6.15.20//NONSGML v1.0//EN
CALSCALE:GREGORIAN
METHOD:PUBLISH
X-WR-CALNAME:Arte Que Acontece
X-ORIGINAL-URL:https://artequeacontece.com.br
X-WR-CALDESC:Eventos para Arte Que Acontece
REFRESH-INTERVAL;VALUE=DURATION:PT1H
X-Robots-Tag:noindex
X-PUBLISHED-TTL:PT1H
BEGIN:VTIMEZONE
TZID:America/Sao_Paulo
BEGIN:STANDARD
TZOFFSETFROM:-0300
TZOFFSETTO:-0300
TZNAME:-03
DTSTART:20230101T000000
END:STANDARD
END:VTIMEZONE
BEGIN:VEVENT
DTSTART;TZID=America/Sao_Paulo:20240203T100000
DTEND;TZID=America/Sao_Paulo:20240316T190000
DTSTAMP:20260422T090441
CREATED:20240202T172540Z
LAST-MODIFIED:20240306T191412Z
UID:46022-1706954400-1710615600@artequeacontece.com.br
SUMMARY:"Querer e não querer\, desejar e temer" de Anna Maria Maiolino na Galeria Luisa Strina
DESCRIPTION:A Galeria Luisa Strina tem o prazer de apresentar Querer não querer\, desejar e temer\, a terceira individual de Anna Maria Maiolino na galeria. A mostra\, que precede a cerimônia de entrega do prêmio Leão de Ouro à artista na Bienal de Veneza\, reúne uma seleção de obras produzidas desde a década de 1990 até o presente — algumas delas expostas pela primeira vez e outras raramente exibidas. \n\n\n\nCom uma produção calcada na experimentação\, Maiolino explora questões ligadas ao fazer como obra\, às relações entre sujeito e objeto e à potência criativa do vazio. Nascida na Itália e tendo imigrado primeiro para a Venezuela e\, mais tarde\, para o Brasil — e vivido nos Estados Unidos e na Argentina por alguns anos —\, Maiolino traz para seu trabalho a experiência de uma identidade fragmentada\, bem como o sentimento de perda e deslocamento que acompanham uma vivência diaspórica. \n\n\n\nEntre os desenhos exibidos na mostra\, encontra-se um exemplar da série Codificações Matéricas\, descrita da seguinte maneira pela artista: “(…) trabalho com a ação consciente das interrelações matéricas: minhas pulsões\, a tinta e a força da gravidade. A gota de tinta é o agente transformador do papel. Ela escorre\, desenha\, formando linhas saturadas de pigmento. A gota desce a ladeira do papel\, atraída pela força da gravidade\, enquanto seguro o papel e o movimento firmemente em minhas mãos\, como um capitão de navio segura o leme. Os itinerários condensam-se pela tinta em contato com o ar. Um sistema se estabelece – simples e primário. Nestes desenhos\, trabalho no domínio da força\, devido à gravidade e à saturação do peso da tinta em seus percursos.”
URL:https://artequeacontece.com.br/evento/querer-e-nao-querer-desejar-e-temer-de-anna-maria-maiolino-na-galeria-luisa-strina/
LOCATION:Galeria Luisa Strina\, Rua Padre João Manuel\, 755 - Jardins\, São Paulo\, SP\, Brasil
CATEGORIES:Destaque,São Paulo
ATTACH;FMTTYPE=image/png:https://artequeacontece.com.br/wp-content/uploads/2024/02/anna-maria-maiolino.png
END:VEVENT
END:VCALENDAR